BEGIN:VCALENDAR
VERSION:2.0
PRODID:-//Angel Eyes Dawn Marie - ECPv6.15.17//NONSGML v1.0//EN
CALSCALE:GREGORIAN
METHOD:PUBLISH
X-ORIGINAL-URL:https://angeleyesdawnmarie.com
X-WR-CALDESC:Events for Angel Eyes Dawn Marie
REFRESH-INTERVAL;VALUE=DURATION:PT1H
X-Robots-Tag:noindex
X-PUBLISHED-TTL:PT1H
BEGIN:VTIMEZONE
TZID:America/New_York
BEGIN:DAYLIGHT
TZOFFSETFROM:-0500
TZOFFSETTO:-0400
TZNAME:EDT
DTSTART:20170312T070000
END:DAYLIGHT
BEGIN:STANDARD
TZOFFSETFROM:-0400
TZOFFSETTO:-0500
TZNAME:EST
DTSTART:20171105T060000
END:STANDARD
BEGIN:DAYLIGHT
TZOFFSETFROM:-0500
TZOFFSETTO:-0400
TZNAME:EDT
DTSTART:20180311T070000
END:DAYLIGHT
BEGIN:STANDARD
TZOFFSETFROM:-0400
TZOFFSETTO:-0500
TZNAME:EST
DTSTART:20181104T060000
END:STANDARD
BEGIN:DAYLIGHT
TZOFFSETFROM:-0500
TZOFFSETTO:-0400
TZNAME:EDT
DTSTART:20190310T070000
END:DAYLIGHT
BEGIN:STANDARD
TZOFFSETFROM:-0400
TZOFFSETTO:-0500
TZNAME:EST
DTSTART:20191103T060000
END:STANDARD
END:VTIMEZONE
BEGIN:VEVENT
DTSTART;TZID=America/New_York:20180802T143000
DTEND;TZID=America/New_York:20180802T173000
DTSTAMP:20260424T081256
CREATED:20180305T235349Z
LAST-MODIFIED:20180308T200709Z
UID:4099-1533220200-1533231000@angeleyesdawnmarie.com
SUMMARY:Advanced Automatic Writing Workshop Level IX\, Aug 2
DESCRIPTION:Advanced Automatic Writing Workshop Certification Course Levels VIII–XIV  \nIn this advanced seven-level course you will continue the journey in our spiritual awareness and intuitive development through writing. We will continue to learn to receive divine insight and write. We will go on a shamanic journey and connecting with our totem and power animals. This will give us more power and strength to move forward in our writing. We will focus on the type of writings we would like to do; such as song writing\, poetry and the book that is inside you. We will also be Channeling and Writing with our favorite singers/writers/authors/mediums that are on the other side for guidance and inspiration. This will give us the steps and tools you will need to “act” now. We will embrace and allow a stronger connection with spirit\, as we practice trans-channeling. Last but not least\, we will be connecting and writing with the Cosmic Heart as we raise our vibrational level and embrace the power of the Universe that is here to assist us on this journey. This course will assist you in taking your spiritual development and writing to the next level. \nIt’s time to let your light shine!!! \nThursday\, July 29th\n6:30pm – 9:30pm
URL:https://angeleyesdawnmarie.com/event/advanced-automatic-writing-workshop-level-9-august-2/
LOCATION:Long Island Healing Arts & Learning Center\, 868 West Jericho Turnpike\, West Hills (Huntington)\, NY\, 11743\, United States
CATEGORIES:Advanced Automatic Writing Workshop
END:VEVENT
BEGIN:VEVENT
DTSTART;TZID=America/New_York:20180816T143000
DTEND;TZID=America/New_York:20180816T173000
DTSTAMP:20260424T081256
CREATED:20180305T235538Z
LAST-MODIFIED:20180807T223328Z
UID:4102-1534429800-1534440600@angeleyesdawnmarie.com
SUMMARY:Advanced Automatic Writing Workshop Level IX\, Aug 16
DESCRIPTION:Advanced Automatic Writing Workshop Certification Course Levels VIII–XIV \nRESCHEDULED DATE \nIn this advanced seven-level course you will continue the journey in our spiritual awareness and intuitive development through writing. We will continue to learn to receive divine insight and write. We will go on a shamanic journey and connecting with our totem and power animals. This will give us more power and strength to move forward in our writing. We will focus on the type of writings we would like to do; such as song writing\, poetry and the book that is inside you. We will also be Channeling and Writing with our favorite singers/writers/authors/mediums that are on the other side for guidance and inspiration. This will give us the steps and tools you will need to “act” now. We will embrace and allow a stronger connection with spirit\, as we practice trans-channeling. Last but not least\, we will be connecting and writing with the Cosmic Heart as we raise our vibrational level and embrace the power of the Universe that is here to assist us on this journey. This course will assist you in taking your spiritual development and writing to the next level. \nIt’s time to let your light shine!!! \nRESCHEDULED DATE FOR LEVEL 9\nThursday\, Aug 16th\n6:30pm – 9:30pm
URL:https://angeleyesdawnmarie.com/event/advanced-automatic-writing-workshop-level-9-aug-16/
LOCATION:Long Island Healing Arts & Learning Center\, 868 West Jericho Turnpike\, West Hills (Huntington)\, NY\, 11743\, United States
CATEGORIES:Advanced Automatic Writing Workshop
END:VEVENT
BEGIN:VEVENT
DTSTART;TZID=America/New_York:20180830T143000
DTEND;TZID=America/New_York:20180830T173000
DTSTAMP:20260424T081256
CREATED:20180307T021023Z
LAST-MODIFIED:20180807T222928Z
UID:4117-1535639400-1535650200@angeleyesdawnmarie.com
SUMMARY:Advanced Automatic Writing Workshop Level X\, Aug 30
DESCRIPTION:Advanced Automatic Writing Workshop Certification Course Levels VIII–XIV \nRESCHEDULED DATE \nIn this advanced seven-level course you will continue the journey in our spiritual awareness and intuitive development through writing. We will continue to learn to receive divine insight and write. We will go on a shamanic journey and connecting with our totem and power animals. This will give us more power and strength to move forward in our writing. We will focus on the type of writings we would like to do; such as song writing\, poetry and the book that is inside you. We will also be Channeling and Writing with our favorite singers/writers/authors/mediums that are on the other side for guidance and inspiration. This will give us the steps and tools you will need to “act” now. We will embrace and allow a stronger connection with spirit\, as we practice trans-channeling. Last but not least\, we will be connecting and writing with the Cosmic Heart as we raise our vibrational level and embrace the power of the Universe that is here to assist us on this journey. This course will assist you in taking your spiritual development and writing to the next level. \nIt’s time to let your light shine!!! \nRESCHEDULED DATE FOR LEVEL X\nThursday\, Aug. 30th\n6:30pm – 9:30pm
URL:https://angeleyesdawnmarie.com/event/advanced-automatic-writing-workshop-level-10-aug-30/
LOCATION:Long Island Healing Arts & Learning Center\, 868 West Jericho Turnpike\, West Hills (Huntington)\, NY\, 11743\, United States
CATEGORIES:Advanced Automatic Writing Workshop
END:VEVENT
END:VCALENDAR