BEGIN:VCALENDAR
VERSION:2.0
PRODID:-//Angel Eyes Dawn Marie - ECPv6.15.17//NONSGML v1.0//EN
CALSCALE:GREGORIAN
METHOD:PUBLISH
X-ORIGINAL-URL:https://angeleyesdawnmarie.com
X-WR-CALDESC:Events for Angel Eyes Dawn Marie
REFRESH-INTERVAL;VALUE=DURATION:PT1H
X-Robots-Tag:noindex
X-PUBLISHED-TTL:PT1H
BEGIN:VTIMEZONE
TZID:America/New_York
BEGIN:DAYLIGHT
TZOFFSETFROM:-0500
TZOFFSETTO:-0400
TZNAME:EDT
DTSTART:20170312T070000
END:DAYLIGHT
BEGIN:STANDARD
TZOFFSETFROM:-0400
TZOFFSETTO:-0500
TZNAME:EST
DTSTART:20171105T060000
END:STANDARD
BEGIN:DAYLIGHT
TZOFFSETFROM:-0500
TZOFFSETTO:-0400
TZNAME:EDT
DTSTART:20180311T070000
END:DAYLIGHT
BEGIN:STANDARD
TZOFFSETFROM:-0400
TZOFFSETTO:-0500
TZNAME:EST
DTSTART:20181104T060000
END:STANDARD
BEGIN:DAYLIGHT
TZOFFSETFROM:-0500
TZOFFSETTO:-0400
TZNAME:EDT
DTSTART:20190310T070000
END:DAYLIGHT
BEGIN:STANDARD
TZOFFSETFROM:-0400
TZOFFSETTO:-0500
TZNAME:EST
DTSTART:20191103T060000
END:STANDARD
END:VTIMEZONE
BEGIN:VEVENT
DTSTART;TZID=America/New_York:20181206T133000
DTEND;TZID=America/New_York:20181206T163000
DTSTAMP:20260422T210344
CREATED:20180604T231427Z
LAST-MODIFIED:20180604T231450Z
UID:4234-1544103000-1544113800@angeleyesdawnmarie.com
SUMMARY:Automatic Writing Workshop Level 3\, Dec 6th
DESCRIPTION:Automatic Writing Workshop Certification Course Level III\nCommunicating with the Other Side
URL:https://angeleyesdawnmarie.com/event/automatic-writing-workshop-level-3-dec-6th/
LOCATION:Long Island Healing Arts & Learning Center\, 868 West Jericho Turnpike\, West Hills (Huntington)\, NY\, 11743\, United States
CATEGORIES:Automatic Writing Workshop
END:VEVENT
BEGIN:VEVENT
DTSTART;TZID=America/New_York:20181213T133000
DTEND;TZID=America/New_York:20181213T163000
DTSTAMP:20260422T210344
CREATED:20180604T231619Z
LAST-MODIFIED:20180604T231619Z
UID:4237-1544707800-1544718600@angeleyesdawnmarie.com
SUMMARY:Automatic Writing Workshop Level 4\, Dec 13th
DESCRIPTION:Automatic Writing Workshop Certification Course Level IV\nCommunicating with the Other Side
URL:https://angeleyesdawnmarie.com/event/automatic-writing-workshop-level-4-dec-13th/
LOCATION:Long Island Healing Arts & Learning Center\, 868 West Jericho Turnpike\, West Hills (Huntington)\, NY\, 11743\, United States
CATEGORIES:Automatic Writing Workshop
END:VEVENT
BEGIN:VEVENT
DTSTART;TZID=America/New_York:20181213T133000
DTEND;TZID=America/New_York:20181213T163000
DTSTAMP:20260422T210344
CREATED:20180604T231727Z
LAST-MODIFIED:20180604T231812Z
UID:4239-1544707800-1544718600@angeleyesdawnmarie.com
SUMMARY:Automatic Writing Workshop Level 4\, Dec. 13th
DESCRIPTION:Automatic Writing Workshop Certification Course Level IV\nCommunicating with the Other Side
URL:https://angeleyesdawnmarie.com/event/automatic-writing-workshop-level-4-dec-13th-2/
LOCATION:Long Island Healing Arts & Learning Center\, 868 West Jericho Turnpike\, West Hills (Huntington)\, NY\, 11743\, United States
CATEGORIES:Automatic Writing Workshop
END:VEVENT
BEGIN:VEVENT
DTSTART;TZID=America/New_York:20181220T133000
DTEND;TZID=America/New_York:20181220T163000
DTSTAMP:20260422T210344
CREATED:20180604T231953Z
LAST-MODIFIED:20180604T231953Z
UID:4242-1545312600-1545323400@angeleyesdawnmarie.com
SUMMARY:Automatic Writing Workshop Level V\, Dec 20th
DESCRIPTION:Automatic Writing Workshop Certification Course Level V\nCommunicating with the Other Side
URL:https://angeleyesdawnmarie.com/event/automatic-writing-workshop-level-v-dec-20th/
LOCATION:Long Island Healing Arts & Learning Center\, 868 West Jericho Turnpike\, West Hills (Huntington)\, NY\, 11743\, United States
CATEGORIES:Automatic Writing Workshop
END:VEVENT
BEGIN:VEVENT
DTSTART;TZID=America/New_York:20181220T133000
DTEND;TZID=America/New_York:20181220T163000
DTSTAMP:20260422T210344
CREATED:20180604T232114Z
LAST-MODIFIED:20180604T232114Z
UID:4244-1545312600-1545323400@angeleyesdawnmarie.com
SUMMARY:Automatic Writing Workshop Level 6\, Dec 20th
DESCRIPTION:Automatic Writing Workshop Certification Course Level VI\nCommunicating with the Other Side
URL:https://angeleyesdawnmarie.com/event/automatic-writing-workshop-level-6-dec-20th/
LOCATION:Long Island Healing Arts & Learning Center\, 868 West Jericho Turnpike\, West Hills (Huntington)\, NY\, 11743\, United States
CATEGORIES:Automatic Writing Workshop
END:VEVENT
END:VCALENDAR