BEGIN:VCALENDAR
VERSION:2.0
PRODID:-//Angel Eyes Dawn Marie - ECPv6.15.17//NONSGML v1.0//EN
CALSCALE:GREGORIAN
METHOD:PUBLISH
X-ORIGINAL-URL:https://angeleyesdawnmarie.com
X-WR-CALDESC:Events for Angel Eyes Dawn Marie
REFRESH-INTERVAL;VALUE=DURATION:PT1H
X-Robots-Tag:noindex
X-PUBLISHED-TTL:PT1H
BEGIN:VTIMEZONE
TZID:America/New_York
BEGIN:DAYLIGHT
TZOFFSETFROM:-0500
TZOFFSETTO:-0400
TZNAME:EDT
DTSTART:20180311T070000
END:DAYLIGHT
BEGIN:STANDARD
TZOFFSETFROM:-0400
TZOFFSETTO:-0500
TZNAME:EST
DTSTART:20181104T060000
END:STANDARD
BEGIN:DAYLIGHT
TZOFFSETFROM:-0500
TZOFFSETTO:-0400
TZNAME:EDT
DTSTART:20190310T070000
END:DAYLIGHT
BEGIN:STANDARD
TZOFFSETFROM:-0400
TZOFFSETTO:-0500
TZNAME:EST
DTSTART:20191103T060000
END:STANDARD
BEGIN:DAYLIGHT
TZOFFSETFROM:-0500
TZOFFSETTO:-0400
TZNAME:EDT
DTSTART:20200308T070000
END:DAYLIGHT
BEGIN:STANDARD
TZOFFSETFROM:-0400
TZOFFSETTO:-0500
TZNAME:EST
DTSTART:20201101T060000
END:STANDARD
END:VTIMEZONE
BEGIN:VEVENT
DTSTART;TZID=America/New_York:20190401T143000
DTEND;TZID=America/New_York:20190401T173000
DTSTAMP:20260422T145845
CREATED:20190125T021230Z
LAST-MODIFIED:20190125T043544Z
UID:4450-1554129000-1554139800@angeleyesdawnmarie.com
SUMMARY:Automatic Writing Workshop Certification Course Level V\, Apr. 1
DESCRIPTION:Automatic Writing Workshop Certification Course\nCommunicating with the Other Side\nLevel V \nIn this seven-level course you will expand your intuition and your  spiritual awareness. Automatic Writing can be the most accessible way for any person to become their own conduit to that which guides them.  Automatic Writing can provide a pathway to communicate with the other side along with connecting with past lives. With cultivation of this technique\,  you can access guidance whenever you wish. You will learn to connect  with your Guides\, Angels\, Ascended Masters and Loved Ones as you  facilitate Automatic Writing for yourself and others.  Yes\, you can do it! \nCourse: $444 (Full course\, includes booklets for each level)\nGo to paypal.me/angeldawnmarie and type in the amount to pay online. \nRSVP by Email: dawn@angeleyesdawnmarie.com or 516.578.4766 (text preferred) \nClasses held exclusively at the Long Island Healing Arts & Learning Center
URL:https://angeleyesdawnmarie.com/event/automatic-writing-workshop-certification-course-level-5-apr-2019/
LOCATION:Long Island Healing Arts & Learning Center\, 868 West Jericho Turnpike\, West Hills (Huntington)\, NY\, 11743\, United States
CATEGORIES:Automatic Writing Workshop
END:VEVENT
BEGIN:VEVENT
DTSTART;TZID=America/New_York:20190408T143000
DTEND;TZID=America/New_York:20190408T173000
DTSTAMP:20260422T145845
CREATED:20190125T021523Z
LAST-MODIFIED:20190125T021523Z
UID:4452-1554733800-1554744600@angeleyesdawnmarie.com
SUMMARY:Automatic Writing Workshop Certification Course Level VI\, Apr. 2019
DESCRIPTION:Automatic Writing Workshop Certification Course\nCommunicating with the Other Side\nLevel VI \nIn this seven-level course you will expand your intuition and your  spiritual awareness. Automatic Writing can be the most accessible way for any person to become their own conduit to that which guides them.  Automatic Writing can provide a pathway to communicate with the other side along with connecting with past lives. With cultivation of this technique\,  you can access guidance whenever you wish. You will learn to connect  with your Guides\, Angels\, Ascended Masters and Loved Ones as you  facilitate Automatic Writing for yourself and others.  Yes\, you can do it! \nCourse: $444 (Full course\, includes booklets for each level)\nGo to paypal.me/angeldawnmarie and type in the amount to pay online. \nRSVP by Email: dawn@angeleyesdawnmarie.com or 516.578.4766 (text preferred) \nClasses held exclusively at the Long Island Healing Arts & Learning Center
URL:https://angeleyesdawnmarie.com/event/automatic-writing-workshop-certification-course-level-6-apr-2019/
LOCATION:Long Island Healing Arts & Learning Center\, 868 West Jericho Turnpike\, West Hills (Huntington)\, NY\, 11743\, United States
CATEGORIES:Automatic Writing Workshop
END:VEVENT
BEGIN:VEVENT
DTSTART;TZID=America/New_York:20190415T143000
DTEND;TZID=America/New_York:20190415T173000
DTSTAMP:20260422T145845
CREATED:20190125T021724Z
LAST-MODIFIED:20190125T021724Z
UID:4454-1555338600-1555349400@angeleyesdawnmarie.com
SUMMARY:Automatic Writing Workshop Certification Course Level VII\, Apr. 2019
DESCRIPTION:Automatic Writing Workshop Certification Course\nCommunicating with the Other Side\nLevel VII \nIn this seven-level course you will expand your intuition and your  spiritual awareness. Automatic Writing can be the most accessible way for any person to become their own conduit to that which guides them.  Automatic Writing can provide a pathway to communicate with the other side along with connecting with past lives. With cultivation of this technique\,  you can access guidance whenever you wish. You will learn to connect  with your Guides\, Angels\, Ascended Masters and Loved Ones as you  facilitate Automatic Writing for yourself and others.  Yes\, you can do it! \nCourse: $444 (Full course\, includes booklets for each level)\nGo to paypal.me/angeldawnmarie and type in the amount to pay online. \nRSVP by Email: dawn@angeleyesdawnmarie.com or 516.578.4766 (text preferred) \nClasses held exclusively at the Long Island Healing Arts & Learning Center
URL:https://angeleyesdawnmarie.com/event/automatic-writing-workshop-certification-course-level-7-apr-2019/
LOCATION:Long Island Healing Arts & Learning Center\, 868 West Jericho Turnpike\, West Hills (Huntington)\, NY\, 11743\, United States
CATEGORIES:Automatic Writing Workshop
END:VEVENT
END:VCALENDAR