BEGIN:VCALENDAR
VERSION:2.0
PRODID:-//Angel Eyes Dawn Marie - ECPv6.15.17//NONSGML v1.0//EN
CALSCALE:GREGORIAN
METHOD:PUBLISH
X-ORIGINAL-URL:https://angeleyesdawnmarie.com
X-WR-CALDESC:Events for Angel Eyes Dawn Marie
REFRESH-INTERVAL;VALUE=DURATION:PT1H
X-Robots-Tag:noindex
X-PUBLISHED-TTL:PT1H
BEGIN:VTIMEZONE
TZID:America/New_York
BEGIN:DAYLIGHT
TZOFFSETFROM:-0500
TZOFFSETTO:-0400
TZNAME:EDT
DTSTART:20190310T070000
END:DAYLIGHT
BEGIN:STANDARD
TZOFFSETFROM:-0400
TZOFFSETTO:-0500
TZNAME:EST
DTSTART:20191103T060000
END:STANDARD
BEGIN:DAYLIGHT
TZOFFSETFROM:-0500
TZOFFSETTO:-0400
TZNAME:EDT
DTSTART:20200308T070000
END:DAYLIGHT
BEGIN:STANDARD
TZOFFSETFROM:-0400
TZOFFSETTO:-0500
TZNAME:EST
DTSTART:20201101T060000
END:STANDARD
BEGIN:DAYLIGHT
TZOFFSETFROM:-0500
TZOFFSETTO:-0400
TZNAME:EDT
DTSTART:20210314T070000
END:DAYLIGHT
BEGIN:STANDARD
TZOFFSETFROM:-0400
TZOFFSETTO:-0500
TZNAME:EST
DTSTART:20211107T060000
END:STANDARD
END:VTIMEZONE
BEGIN:VEVENT
DTSTART;TZID=America/New_York:20200302T183000
DTEND;TZID=America/New_York:20200302T213000
DTSTAMP:20260421T231342
CREATED:20200120T041704Z
LAST-MODIFIED:20200210T145804Z
UID:5084-1583173800-1583184600@angeleyesdawnmarie.com
SUMMARY:Automatic Writing Workshop Level III\, March 2nd
DESCRIPTION:This seven level course will expand & develop your intuition. \nMONDAYS\, 6:30pm – 9:30pm \nPlease PayPal and text Dawn Marie at 516.578.4766 to register.\nPay online at paypal.me/angeldawnmarie\nCourse available online through Zoom.
URL:https://angeleyesdawnmarie.com/event/automatic-writing-workshop-level-3-march-2nd/
LOCATION:Long Island Healing Arts & Learning Center\, 868 West Jericho Turnpike\, West Hills (Huntington)\, NY\, 11743\, United States
CATEGORIES:Automatic Writing Workshop
END:VEVENT
BEGIN:VEVENT
DTSTART;TZID=America/New_York:20200309T183000
DTEND;TZID=America/New_York:20200309T213000
DTSTAMP:20260421T231342
CREATED:20200120T041905Z
LAST-MODIFIED:20200120T041912Z
UID:5086-1583778600-1583789400@angeleyesdawnmarie.com
SUMMARY:Automatic Writing Workshop Level IV\, March 9th
DESCRIPTION:This seven level course will expand & develop your intuition. \nMONDAYS\, 6:30pm – 9:30pm | $444 \nPlease PayPal and text Dawn Marie at 516.578.4766 to register.\nPay online at paypal.me/angeldawnmarie\nCourse available online through Zoom.
URL:https://angeleyesdawnmarie.com/event/automatic-writing-workshop-level-4-march-9th/
LOCATION:Long Island Healing Arts & Learning Center\, 868 West Jericho Turnpike\, West Hills (Huntington)\, NY\, 11743\, United States
CATEGORIES:Automatic Writing Workshop
END:VEVENT
BEGIN:VEVENT
DTSTART;TZID=America/New_York:20200316T183000
DTEND;TZID=America/New_York:20200316T213000
DTSTAMP:20260421T231342
CREATED:20200120T042053Z
LAST-MODIFIED:20200120T042104Z
UID:5088-1584383400-1584394200@angeleyesdawnmarie.com
SUMMARY:Automatic Writing Workshop Level V\, March 16th
DESCRIPTION:This seven level course will expand & develop your intuition. \nMONDAYS\, 6:30pm – 9:30pm | $444 \nPlease PayPal and text Dawn Marie at 516.578.4766 to register.\nPay online at paypal.me/angeldawnmarie\nCourse available online through Zoom.
URL:https://angeleyesdawnmarie.com/event/automatic-writing-workshop-level-v-march-16th/
LOCATION:Long Island Healing Arts & Learning Center\, 868 West Jericho Turnpike\, West Hills (Huntington)\, NY\, 11743\, United States
CATEGORIES:Automatic Writing Workshop
END:VEVENT
BEGIN:VEVENT
DTSTART;TZID=America/New_York:20200323T183000
DTEND;TZID=America/New_York:20200323T213000
DTSTAMP:20260421T231342
CREATED:20200120T042231Z
LAST-MODIFIED:20200210T144854Z
UID:5090-1584988200-1584999000@angeleyesdawnmarie.com
SUMMARY:Automatic Writing Workshop Level VI\, March 23rd
DESCRIPTION:This seven level course will expand & develop your intuition. \nMONDAYS\, 6:30pm – 9:30pm \nPlease PayPal and text Dawn Marie at 516.578.4766 to register.\nPay online at paypal.me/angeldawnmarie\nCourse available online through Zoom.
URL:https://angeleyesdawnmarie.com/event/automatic-writing-workshop-level-vi-march-23rd/
LOCATION:Long Island Healing Arts & Learning Center\, 868 West Jericho Turnpike\, West Hills (Huntington)\, NY\, 11743\, United States
CATEGORIES:Automatic Writing Workshop
END:VEVENT
BEGIN:VEVENT
DTSTART;TZID=America/New_York:20200330T183000
DTEND;TZID=America/New_York:20200330T213000
DTSTAMP:20260421T231342
CREATED:20200120T042359Z
LAST-MODIFIED:20200210T144807Z
UID:5092-1585593000-1585603800@angeleyesdawnmarie.com
SUMMARY:Automatic Writing Workshop Level VII\, March 30th
DESCRIPTION:This seven level course will expand & develop your intuition. \nMONDAYS\, 6:30pm – 9:30pm \nPlease PayPal and text Dawn Marie at 516.578.4766 to register.\nPay online at paypal.me/angeldawnmarie\nCourse available online through Zoom.
URL:https://angeleyesdawnmarie.com/event/automatic-writing-workshop-level-vii-march-30th/
LOCATION:Long Island Healing Arts & Learning Center\, 868 West Jericho Turnpike\, West Hills (Huntington)\, NY\, 11743\, United States
CATEGORIES:Automatic Writing Workshop
END:VEVENT
END:VCALENDAR