BEGIN:VCALENDAR
VERSION:2.0
PRODID:-//Angel Eyes Dawn Marie - ECPv6.15.17//NONSGML v1.0//EN
CALSCALE:GREGORIAN
METHOD:PUBLISH
X-ORIGINAL-URL:https://angeleyesdawnmarie.com
X-WR-CALDESC:Events for Angel Eyes Dawn Marie
REFRESH-INTERVAL;VALUE=DURATION:PT1H
X-Robots-Tag:noindex
X-PUBLISHED-TTL:PT1H
BEGIN:VTIMEZONE
TZID:America/New_York
BEGIN:DAYLIGHT
TZOFFSETFROM:-0500
TZOFFSETTO:-0400
TZNAME:EDT
DTSTART:20190310T070000
END:DAYLIGHT
BEGIN:STANDARD
TZOFFSETFROM:-0400
TZOFFSETTO:-0500
TZNAME:EST
DTSTART:20191103T060000
END:STANDARD
BEGIN:DAYLIGHT
TZOFFSETFROM:-0500
TZOFFSETTO:-0400
TZNAME:EDT
DTSTART:20200308T070000
END:DAYLIGHT
BEGIN:STANDARD
TZOFFSETFROM:-0400
TZOFFSETTO:-0500
TZNAME:EST
DTSTART:20201101T060000
END:STANDARD
BEGIN:DAYLIGHT
TZOFFSETFROM:-0500
TZOFFSETTO:-0400
TZNAME:EDT
DTSTART:20210314T070000
END:DAYLIGHT
BEGIN:STANDARD
TZOFFSETFROM:-0400
TZOFFSETTO:-0500
TZNAME:EST
DTSTART:20211107T060000
END:STANDARD
END:VTIMEZONE
BEGIN:VEVENT
DTSTART;TZID=America/New_York:20200529T143000
DTEND;TZID=America/New_York:20200529T203000
DTSTAMP:20260425T204031
CREATED:20200528T134526Z
LAST-MODIFIED:20200528T134529Z
UID:5735-1590762600-1590784200@angeleyesdawnmarie.com
SUMMARY:Private Sessions with Dawn Marie\, May 29th
DESCRIPTION:50-Minute Sessions Available (through Zoom)\nAngel Card ReadingsMediumship ReadingsPast Life ReadingsSpiritual CounselingIntuitive Development Coaching3rd Eye ActivationAscension ActivationOneness Activation \nInvestment: $200 per 50-minute session\nTo book your session\, please use the button below: \n			\n				REGISTER HERE
URL:https://angeleyesdawnmarie.com/event/private-sessions-with-dawn-marie-may-29th/
LOCATION:NY
CATEGORIES:Private Sessions
END:VEVENT
END:VCALENDAR