BEGIN:VCALENDAR
VERSION:2.0
PRODID:-//Angel Eyes Dawn Marie - ECPv6.15.17//NONSGML v1.0//EN
CALSCALE:GREGORIAN
METHOD:PUBLISH
X-ORIGINAL-URL:https://angeleyesdawnmarie.com
X-WR-CALDESC:Events for Angel Eyes Dawn Marie
REFRESH-INTERVAL;VALUE=DURATION:PT1H
X-Robots-Tag:noindex
X-PUBLISHED-TTL:PT1H
BEGIN:VTIMEZONE
TZID:America/New_York
BEGIN:DAYLIGHT
TZOFFSETFROM:-0500
TZOFFSETTO:-0400
TZNAME:EDT
DTSTART:20190310T070000
END:DAYLIGHT
BEGIN:STANDARD
TZOFFSETFROM:-0400
TZOFFSETTO:-0500
TZNAME:EST
DTSTART:20191103T060000
END:STANDARD
BEGIN:DAYLIGHT
TZOFFSETFROM:-0500
TZOFFSETTO:-0400
TZNAME:EDT
DTSTART:20200308T070000
END:DAYLIGHT
BEGIN:STANDARD
TZOFFSETFROM:-0400
TZOFFSETTO:-0500
TZNAME:EST
DTSTART:20201101T060000
END:STANDARD
BEGIN:DAYLIGHT
TZOFFSETFROM:-0500
TZOFFSETTO:-0400
TZNAME:EDT
DTSTART:20210314T070000
END:DAYLIGHT
BEGIN:STANDARD
TZOFFSETFROM:-0400
TZOFFSETTO:-0500
TZNAME:EST
DTSTART:20211107T060000
END:STANDARD
END:VTIMEZONE
BEGIN:VEVENT
DTSTART;TZID=America/New_York:20200807T143000
DTEND;TZID=America/New_York:20200807T203000
DTSTAMP:20260425T151822
CREATED:20200806T153456Z
LAST-MODIFIED:20200806T171237Z
UID:6136-1596810600-1596832200@angeleyesdawnmarie.com
SUMMARY:Private Sessions with Dawn Marie\, August 7th
DESCRIPTION:Private Sessions with Dawn Marie\n50-Minute Sessions Available\n\nAngel Card Readings\nMediumship Readings\nPast Life Readings\nSpiritual Counseling\nIntuitive Development Coaching\n3rd Eye Activation\nAscension Activation\nOneness Activation \nONLINE THROUGH ZOOM\nInvestment: $200 per 50-minute session \nPrivate Sessions are also available on August 28th. \nTo book your session and pay online use the button below: \n			\n				BOOK YOUR SESSION
URL:https://angeleyesdawnmarie.com/event/private-sessions-with-dawn-marie-august-7th/
LOCATION:NY
CATEGORIES:Private Sessions
END:VEVENT
BEGIN:VEVENT
DTSTART;TZID=America/New_York:20200814T153000
DTEND;TZID=America/New_York:20200814T213000
DTSTAMP:20260425T151822
CREATED:20200813T012242Z
LAST-MODIFIED:20200813T012250Z
UID:6236-1597419000-1597440600@angeleyesdawnmarie.com
SUMMARY:Private Sessions with Dawn Marie\, August 14th
DESCRIPTION:Private Sessions with Dawn Marie\n50-Minute Sessions Available\n\nAngel Card Readings\nMediumship Readings\nPast Life Readings\nSpiritual Counseling\nIntuitive Development Coaching\n3rd Eye Activation\nAscension Activation\nOneness Activation \nONLINE THROUGH ZOOM\nInvestment: $200 per 50-minute session \nTo book your session use the button below: \n			\n				BOOK YOUR SESSION
URL:https://angeleyesdawnmarie.com/event/private-sessions-with-dawn-marie-august-14th/
LOCATION:NY
CATEGORIES:Private Sessions
END:VEVENT
BEGIN:VEVENT
DTSTART;TZID=America/New_York:20200821T153000
DTEND;TZID=America/New_York:20200821T223000
DTSTAMP:20260425T151822
CREATED:20200813T011940Z
LAST-MODIFIED:20200813T011943Z
UID:6232-1598023800-1598049000@angeleyesdawnmarie.com
SUMMARY:Private Sessions with Dawn Marie\, August 21st
DESCRIPTION:Private Sessions with Dawn Marie\n50-Minute Sessions AvailableAngel Card ReadingsMediumship ReadingsPast Life ReadingsSpiritual CounselingIntuitive Development Coaching3rd Eye ActivationAscension ActivationOneness Activation \nONLINE THROUGH ZOOMInvestment: $200 per 50-minute session \nTo book your session use the button below: \n			\n				BOOK YOUR SESSION
URL:https://angeleyesdawnmarie.com/event/private-sessions-with-dawn-marie-august-21st/
LOCATION:NY
CATEGORIES:Private Sessions
END:VEVENT
END:VCALENDAR