BEGIN:VCALENDAR
VERSION:2.0
PRODID:-//Angel Eyes Dawn Marie - ECPv6.15.17//NONSGML v1.0//EN
CALSCALE:GREGORIAN
METHOD:PUBLISH
X-ORIGINAL-URL:https://angeleyesdawnmarie.com
X-WR-CALDESC:Events for Angel Eyes Dawn Marie
REFRESH-INTERVAL;VALUE=DURATION:PT1H
X-Robots-Tag:noindex
X-PUBLISHED-TTL:PT1H
BEGIN:VTIMEZONE
TZID:America/New_York
BEGIN:DAYLIGHT
TZOFFSETFROM:-0500
TZOFFSETTO:-0400
TZNAME:EDT
DTSTART:20190310T070000
END:DAYLIGHT
BEGIN:STANDARD
TZOFFSETFROM:-0400
TZOFFSETTO:-0500
TZNAME:EST
DTSTART:20191103T060000
END:STANDARD
BEGIN:DAYLIGHT
TZOFFSETFROM:-0500
TZOFFSETTO:-0400
TZNAME:EDT
DTSTART:20200308T070000
END:DAYLIGHT
BEGIN:STANDARD
TZOFFSETFROM:-0400
TZOFFSETTO:-0500
TZNAME:EST
DTSTART:20201101T060000
END:STANDARD
BEGIN:DAYLIGHT
TZOFFSETFROM:-0500
TZOFFSETTO:-0400
TZNAME:EDT
DTSTART:20210314T070000
END:DAYLIGHT
BEGIN:STANDARD
TZOFFSETFROM:-0400
TZOFFSETTO:-0500
TZNAME:EST
DTSTART:20211107T060000
END:STANDARD
END:VTIMEZONE
BEGIN:VEVENT
DTSTART;TZID=America/New_York:20200918T153000
DTEND;TZID=America/New_York:20200918T203000
DTSTAMP:20260425T134336
CREATED:20200902T212906Z
LAST-MODIFIED:20200907T165545Z
UID:8594-1600443000-1600461000@angeleyesdawnmarie.com
SUMMARY:Private Sessions\, Sept. 18th
DESCRIPTION:Angel Card Readings\nMediumship Readings\nPast Life Readings\nSpiritual Counseling\nIntuitive Development Coaching\n3rd Eye Activation\nAscension Activation\nOneness Activation \nONLINE THROUGH ZOOM\nInvestment: $200 per 50-minute session \nSESSIONS AVAILABLE FRIDAY SEPT. 18 & 25\n3:30–8:30pm \nTo book your session\, please use the button below:\n			\n				BOOK YOUR SESSION
URL:https://angeleyesdawnmarie.com/event/private-sessions-sept-18th/
LOCATION:NY
CATEGORIES:Private Sessions
END:VEVENT
END:VCALENDAR