BEGIN:VCALENDAR
VERSION:2.0
PRODID:-//Angel Eyes Dawn Marie - ECPv6.15.17//NONSGML v1.0//EN
CALSCALE:GREGORIAN
METHOD:PUBLISH
X-ORIGINAL-URL:https://angeleyesdawnmarie.com
X-WR-CALDESC:Events for Angel Eyes Dawn Marie
REFRESH-INTERVAL;VALUE=DURATION:PT1H
X-Robots-Tag:noindex
X-PUBLISHED-TTL:PT1H
BEGIN:VTIMEZONE
TZID:America/New_York
BEGIN:DAYLIGHT
TZOFFSETFROM:-0500
TZOFFSETTO:-0400
TZNAME:EDT
DTSTART:20170312T070000
END:DAYLIGHT
BEGIN:STANDARD
TZOFFSETFROM:-0400
TZOFFSETTO:-0500
TZNAME:EST
DTSTART:20171105T060000
END:STANDARD
BEGIN:DAYLIGHT
TZOFFSETFROM:-0500
TZOFFSETTO:-0400
TZNAME:EDT
DTSTART:20180311T070000
END:DAYLIGHT
BEGIN:STANDARD
TZOFFSETFROM:-0400
TZOFFSETTO:-0500
TZNAME:EST
DTSTART:20181104T060000
END:STANDARD
BEGIN:DAYLIGHT
TZOFFSETFROM:-0500
TZOFFSETTO:-0400
TZNAME:EDT
DTSTART:20190310T070000
END:DAYLIGHT
BEGIN:STANDARD
TZOFFSETFROM:-0400
TZOFFSETTO:-0500
TZNAME:EST
DTSTART:20191103T060000
END:STANDARD
END:VTIMEZONE
BEGIN:VEVENT
DTSTART;TZID=America/New_York:20180604T143000
DTEND;TZID=America/New_York:20180604T173000
DTSTAMP:20260425T115937
CREATED:20180305T194459Z
LAST-MODIFIED:20180308T203608Z
UID:4073-1528122600-1528133400@angeleyesdawnmarie.com
SUMMARY:Advanced Angel Card Workshop Certification Course Level XIII
DESCRIPTION:Advanced Angel Card Workshop Certification Course Levels VIII–XIV\nAdvanced Techniques to Enhance Your Angel Card Reading…Continuing the Journey!!! \nIn this advanced seven-level course we will be Continuing the Journey to Enhance your Angel Card Readings. In this course you will be going deeper with our Angel Card Readings and Spiritual Studies as we learn about the Rainbow Rays\, Levels of Consciousness\, and The 12 Dimensions. We will learn to do Ascension\, Past Life\, Mediumship Readings. We will be using theme decks and added techniques and tips to assist you as you deliver your messages during a reading. With all of this knowledge you will be able to grow a stronger connection with your client and bring forward healing empowering messages. We will also review public speaking\, group readings and demonstrations of breaking through the fear of being seen. \nIt’s time to let your light shine!!! \nMonday\, Jun. 4th \n6:30pm – 9:30pm
URL:https://angeleyesdawnmarie.com/event/advanced-angel-card-workshop-certification-course-level-13-june-4/
LOCATION:Long Island Healing Arts & Learning Center\, 868 West Jericho Turnpike\, West Hills (Huntington)\, NY\, 11743\, United States
CATEGORIES:Advanced Angel Card Workshop
END:VEVENT
BEGIN:VEVENT
DTSTART;TZID=America/New_York:20180611T143000
DTEND;TZID=America/New_York:20180611T173000
DTSTAMP:20260425T115937
CREATED:20180305T194620Z
LAST-MODIFIED:20180308T203455Z
UID:4075-1528727400-1528738200@angeleyesdawnmarie.com
SUMMARY:Advanced Angel Card Workshop Certification Course Level XIV
DESCRIPTION:Advanced Angel Card Workshop Certification Course Levels VIII–XIV\nAdvanced Techniques to Enhance Your Angel Card Reading…Continuing the Journey!!! \nIn this advanced seven-level course we will be Continuing the Journey to Enhance your Angel Card Readings. In this course you will be going deeper with our Angel Card Readings and Spiritual Studies as we learn about the Rainbow Rays\, Levels of Consciousness\, and The 12 Dimensions. We will learn to do Ascension\, Past Life\, Mediumship Readings. We will be using theme decks and added techniques and tips to assist you as you deliver your messages during a reading. With all of this knowledge you will be able to grow a stronger connection with your client and bring forward healing empowering messages. We will also review public speaking\, group readings and demonstrations of breaking through the fear of being seen. \nIt’s time to let your light shine!!! \nMonday\, Jun 11th \n6:30pm – 9:30pm
URL:https://angeleyesdawnmarie.com/event/advanced-angel-card-workshop-certification-course-level-14-june-11/
LOCATION:Long Island Healing Arts & Learning Center\, 868 West Jericho Turnpike\, West Hills (Huntington)\, NY\, 11743\, United States
CATEGORIES:Advanced Angel Card Workshop
END:VEVENT
BEGIN:VEVENT
DTSTART;TZID=America/New_York:20180620T160000
DTEND;TZID=America/New_York:20180620T180000
DTSTAMP:20260425T115937
CREATED:20180604T233024Z
LAST-MODIFIED:20180604T233107Z
UID:4250-1529510400-1529517600@angeleyesdawnmarie.com
SUMMARY:Mediumship “Reconnect With Your Loved Ones on the Other Side”
DESCRIPTION:Mediumship “Reconnect With Your Loved Ones on the Other Side”\nWednesday\, June 20th | 8:00-10:00pm \nIn this class you will be given the tools and steps to connect and communicate with your loved ones that are around you. Our loved ones are around us all the time\, they come to us with a loving sign. Some of the signs you may have had are songs\, scents\, coins\, birds\, or just a feeling they are there and many\, many other ways. Come reconnect with your loved ones and find a new way of embracing their presence now and always. \nRSVP by Email: dawn@angeleyesdawnmarie.com or Cell: 516.578.4766 (text preferred)
URL:https://angeleyesdawnmarie.com/event/mediumship-reconnect-with-your-loved-ones-on-the-other-side-june-20/
LOCATION:Long Island Healing Arts & Learning Center\, 868 West Jericho Turnpike\, West Hills (Huntington)\, NY\, 11743\, United States
CATEGORIES:Mediumship,Spiritual Awareness/ Intuitive Development
END:VEVENT
BEGIN:VEVENT
DTSTART;TZID=America/New_York:20180625T150000
DTEND;TZID=America/New_York:20180625T170000
DTSTAMP:20260425T115937
CREATED:20180623T192718Z
LAST-MODIFIED:20180623T192718Z
UID:4258-1529938800-1529946000@angeleyesdawnmarie.com
SUMMARY:Introduction to Expanding Your Intuition
DESCRIPTION:Introduction to Expanding Your Intuition through Meditation\, Angel Cards and Automatic Writing\nI have received many inquiries about the courses I offer\, so I createdthis class just for you. If you have been thinking of joining the Seven-Level Workshops this a perfect class that gives you a taste of both and see if it\nresonates with you. Or maybe help you decide which one to take first!!! LOL \nIn this class I will discuss how various tools truly assist you in connecting to the Divine and ultimately will expand your intuition. You will find out which one works better for you\, or maybe you will love both ways. We will also practice using these tools on receiving a reading and a writing on ourselves and on others. It will be a great class! \nPerfect for Beginners that have been wanting to expand and develop their intuition. And for my seasoned veterans it will be a nice refresher course and to get some practice in for yourself and receiving messages for others. \n$35 Cash at the door or PayPal (before the event)\nGo to paypal.me/angeldawnmarie and type in the amount to pay online
URL:https://angeleyesdawnmarie.com/event/introduction-to-expanding-your-intuition/
LOCATION:Long Island Healing Arts & Learning Center\, 868 West Jericho Turnpike\, West Hills (Huntington)\, NY\, 11743\, United States
CATEGORIES:Angel Card Workshop,Automatic Writing Workshop,Spiritual Awareness/ Intuitive Development
END:VEVENT
END:VCALENDAR