BEGIN:VCALENDAR
VERSION:2.0
PRODID:-//Angel Eyes Dawn Marie - ECPv6.15.17//NONSGML v1.0//EN
CALSCALE:GREGORIAN
METHOD:PUBLISH
X-WR-CALNAME:Angel Eyes Dawn Marie
X-ORIGINAL-URL:https://angeleyesdawnmarie.com
X-WR-CALDESC:Events for Angel Eyes Dawn Marie
REFRESH-INTERVAL;VALUE=DURATION:PT1H
X-Robots-Tag:noindex
X-PUBLISHED-TTL:PT1H
BEGIN:VTIMEZONE
TZID:America/New_York
BEGIN:DAYLIGHT
TZOFFSETFROM:-0500
TZOFFSETTO:-0400
TZNAME:EDT
DTSTART:20170312T070000
END:DAYLIGHT
BEGIN:STANDARD
TZOFFSETFROM:-0400
TZOFFSETTO:-0500
TZNAME:EST
DTSTART:20171105T060000
END:STANDARD
BEGIN:DAYLIGHT
TZOFFSETFROM:-0500
TZOFFSETTO:-0400
TZNAME:EDT
DTSTART:20180311T070000
END:DAYLIGHT
BEGIN:STANDARD
TZOFFSETFROM:-0400
TZOFFSETTO:-0500
TZNAME:EST
DTSTART:20181104T060000
END:STANDARD
BEGIN:DAYLIGHT
TZOFFSETFROM:-0500
TZOFFSETTO:-0400
TZNAME:EDT
DTSTART:20190310T070000
END:DAYLIGHT
BEGIN:STANDARD
TZOFFSETFROM:-0400
TZOFFSETTO:-0500
TZNAME:EST
DTSTART:20191103T060000
END:STANDARD
END:VTIMEZONE
BEGIN:VEVENT
DTSTART;TZID=America/New_York:20180710T150000
DTEND;TZID=America/New_York:20180710T170000
DTSTAMP:20260425T100816
CREATED:20180702T175023Z
LAST-MODIFIED:20180705T193852Z
UID:4272-1531234800-1531242000@angeleyesdawnmarie.com
SUMMARY:Introduction to Expanding Your Intuition\, July 10th
DESCRIPTION:RESCHEDULED:\nIntroduction to Expanding Your Intuition through Meditation\, Angel Cards and Automatic Writing\nI have received many inquiries about the courses I offer\, so I created this class just for you. If you have been thinking of joining the Seven-Level Workshops this a perfect class that gives you a taste of both and see if it\nresonates with you. Or maybe help you decide which one to take first!!! LOL \nIn this class I will discuss how various tools truly assist you in connecting to the Divine and ultimately will expand your intuition. You will find out which one works better for you\, or maybe you will love both ways. We will also practice using these tools on receiving a reading and a writing on ourselves and on others. It will be a great class! \nPerfect for Beginners that have been wanting to expand and develop their intuition. And for my seasoned veterans it will be a nice refresher course and to get some practice in for yourself and receiving messages for others. \nRESCHEDULED FOR TUESDAY\, JULY 10TH \n$35 Cash at the door or PayPal (before the event)\nGo to paypal.me/angeldawnmarie and type in the amount to pay online
URL:https://angeleyesdawnmarie.com/event/introduction-to-expanding-your-intuition-july-9th/
LOCATION:Long Island Healing Arts & Learning Center\, 868 West Jericho Turnpike\, West Hills (Huntington)\, NY\, 11743\, United States
CATEGORIES:Intro to Automatic Writing,Introduction to Angel Cards,Spiritual Awareness/ Intuitive Development
END:VEVENT
BEGIN:VEVENT
DTSTART;TZID=America/New_York:20180716T143000
DTEND;TZID=America/New_York:20180716T173000
DTSTAMP:20260425T100816
CREATED:20180305T231205Z
LAST-MODIFIED:20180305T231205Z
UID:4077-1531751400-1531762200@angeleyesdawnmarie.com
SUMMARY:Angel Card Workshop Certification Level I\, July 2018
DESCRIPTION:Angel Card Workshop Certification Course Levels I–VII   \nConnecting with your Angels and Ascending Masters  In this seven-level course you will expand your intuition and your spiritual awareness. You will learn how to conduct strong readings for yourself and others. You will be able to tune-in and powerfully connect with your Angel Cards. We will also work with strengthening your intuition\, clairsenses\, mediumship and channeling abilities. You will learn to connect with your Guides\, Angels\, Ascended Masters and Loved Ones as you facilitate Angel Card Readings for yourself and others. \nYes\, you can do it! \nMondays from 6:30pm – 9:30pm\n Starts July 16th\, 2018
URL:https://angeleyesdawnmarie.com/event/angel-card-workshop-certification-level-i-july-2018/
LOCATION:Long Island Healing Arts & Learning Center\, 868 West Jericho Turnpike\, West Hills (Huntington)\, NY\, 11743\, United States
CATEGORIES:Angel Card Workshop
END:VEVENT
BEGIN:VEVENT
DTSTART;TZID=America/New_York:20180719T143000
DTEND;TZID=America/New_York:20180719T173000
DTSTAMP:20260425T100816
CREATED:20180305T235150Z
LAST-MODIFIED:20180308T200742Z
UID:4097-1532010600-1532021400@angeleyesdawnmarie.com
SUMMARY:Advanced Automatic Writing Workshop Level VIII\, July 19
DESCRIPTION:Advanced Automatic Writing Workshop Certification Course Levels VIII–XIV    \nIn this advanced seven-level course you will continue the journey in our spiritual awareness and intuitive development through writing. We will continue to learn to receive divine insight and write. We will go on a shamanic journey and connecting with our totem and power animals. This will give us more power and strength to move forward in our writing. We will focus on the type of writings we would like to do; such as song writing\, poetry and the book that is inside you. We will also be Channeling and Writing with our favorite singers/writers/authors/mediums that are on the other side for guidance and inspiration. This will give us the steps and tools you will need to “act” now. We will embrace and allow a stronger connection with spirit\, as we practice trans-channeling. Last but not least\, we will be connecting and writing with the Cosmic Heart as we raise our vibrational level and embrace the power of the Universe that is here to assist us on this journey. This course will assist you in taking your spiritual development and writing to the next level. \nIt’s time to let your light shine!!! \nThursday\, July 19th\n6:30pm – 9:30pm
URL:https://angeleyesdawnmarie.com/event/advanced-automatic-writing-workshop-level-8-july-19/
LOCATION:Long Island Healing Arts & Learning Center\, 868 West Jericho Turnpike\, West Hills (Huntington)\, NY\, 11743\, United States
CATEGORIES:Advanced Automatic Writing Workshop
END:VEVENT
BEGIN:VEVENT
DTSTART;TZID=America/New_York:20180730T143000
DTEND;TZID=America/New_York:20180730T173000
DTSTAMP:20260425T100816
CREATED:20180305T231443Z
LAST-MODIFIED:20180305T231506Z
UID:4079-1532961000-1532971800@angeleyesdawnmarie.com
SUMMARY:Angel Card Workshop Certification Level II—July 30\, 2018
DESCRIPTION:Angel Card Workshop Certification Course Levels I–VII\nConnecting with your Angels and Ascending Masters   \nIn this seven-level course you will expand your intuition and your spiritual awareness. You will learn how to conduct strong readings for yourself and others. You will be able to tune-in and powerfully connect with your Angel Cards. We will also work with strengthening your intuition\, clairsenses\, mediumship and channeling abilities. You will learn to connect with your Guides\, Angels\, Ascended Masters and Loved Ones as you facilitate Angel Card Readings for yourself and others. \nYes\, you can do it! \nMonday\, July 30th\n6:30pm – 9:30pm
URL:https://angeleyesdawnmarie.com/event/angel-card-workshop-certification-level-2-july-30-2018/
LOCATION:Long Island Healing Arts & Learning Center\, 868 West Jericho Turnpike\, West Hills (Huntington)\, NY\, 11743\, United States
CATEGORIES:Angel Card Workshop
END:VEVENT
END:VCALENDAR