BEGIN:VCALENDAR
VERSION:2.0
PRODID:-//Angel Eyes Dawn Marie - ECPv6.15.17//NONSGML v1.0//EN
CALSCALE:GREGORIAN
METHOD:PUBLISH
X-ORIGINAL-URL:https://angeleyesdawnmarie.com
X-WR-CALDESC:Events for Angel Eyes Dawn Marie
REFRESH-INTERVAL;VALUE=DURATION:PT1H
X-Robots-Tag:noindex
X-PUBLISHED-TTL:PT1H
BEGIN:VTIMEZONE
TZID:America/New_York
BEGIN:DAYLIGHT
TZOFFSETFROM:-0500
TZOFFSETTO:-0400
TZNAME:EDT
DTSTART:20180311T070000
END:DAYLIGHT
BEGIN:STANDARD
TZOFFSETFROM:-0400
TZOFFSETTO:-0500
TZNAME:EST
DTSTART:20181104T060000
END:STANDARD
BEGIN:DAYLIGHT
TZOFFSETFROM:-0500
TZOFFSETTO:-0400
TZNAME:EDT
DTSTART:20190310T070000
END:DAYLIGHT
BEGIN:STANDARD
TZOFFSETFROM:-0400
TZOFFSETTO:-0500
TZNAME:EST
DTSTART:20191103T060000
END:STANDARD
BEGIN:DAYLIGHT
TZOFFSETFROM:-0500
TZOFFSETTO:-0400
TZNAME:EDT
DTSTART:20200308T070000
END:DAYLIGHT
BEGIN:STANDARD
TZOFFSETFROM:-0400
TZOFFSETTO:-0500
TZNAME:EST
DTSTART:20201101T060000
END:STANDARD
END:VTIMEZONE
BEGIN:VEVENT
DTSTART;TZID=America/New_York:20190107T133000
DTEND;TZID=America/New_York:20190107T163000
DTSTAMP:20260422T210402
CREATED:20180604T230529Z
LAST-MODIFIED:20180604T230529Z
UID:4225-1546867800-1546878600@angeleyesdawnmarie.com
SUMMARY:Advanced Angel Card Workshop Certification Course Level XIII\, Jan 7th
DESCRIPTION:Advanced Angel Card Workshop Certification Course Level XIII\nAdvanced Techniques to Enhance Your Angel Card Reading…Continuing the Journey!!!
URL:https://angeleyesdawnmarie.com/event/advanced-angel-card-workshop-certification-course-level-xiii-jan-7th/
LOCATION:Long Island Healing Arts & Learning Center\, 868 West Jericho Turnpike\, West Hills (Huntington)\, NY\, 11743\, United States
CATEGORIES:Advanced Angel Card Workshop
END:VEVENT
BEGIN:VEVENT
DTSTART;TZID=America/New_York:20190110T133000
DTEND;TZID=America/New_York:20190110T163000
DTSTAMP:20260422T210402
CREATED:20180604T232228Z
LAST-MODIFIED:20180604T232228Z
UID:4246-1547127000-1547137800@angeleyesdawnmarie.com
SUMMARY:Automatic Writing Workshop Level 6\, Jan. 10th
DESCRIPTION:Automatic Writing Workshop Certification Course Level VI\nCommunicating with the Other Side
URL:https://angeleyesdawnmarie.com/event/automatic-writing-workshop-level-6-jan-10th/
LOCATION:Long Island Healing Arts & Learning Center\, 868 West Jericho Turnpike\, West Hills (Huntington)\, NY\, 11743\, United States
CATEGORIES:Automatic Writing Workshop
END:VEVENT
BEGIN:VEVENT
DTSTART;TZID=America/New_York:20190114T133000
DTEND;TZID=America/New_York:20190114T163000
DTSTAMP:20260422T210402
CREATED:20180604T230647Z
LAST-MODIFIED:20181218T201746Z
UID:4227-1547472600-1547483400@angeleyesdawnmarie.com
SUMMARY:Advanced Angel Card Workshop Certification Course Level 14 Jan 28th
DESCRIPTION:Advanced Angel Card Workshop Certification Course Level XIV\nAdvanced Techniques to Enhance Your Angel Card Reading…Continuing the Journey!!! \nDATE CHANGE\nJAN. 28TH\, 2019\nORIGINALLY SCHEDULED FOR JAN. 14TH
URL:https://angeleyesdawnmarie.com/event/advanced-angel-card-workshop-certification-course-level-14-jan-14th/
LOCATION:Long Island Healing Arts & Learning Center\, 868 West Jericho Turnpike\, West Hills (Huntington)\, NY\, 11743\, United States
CATEGORIES:Advanced Angel Card Workshop
END:VEVENT
BEGIN:VEVENT
DTSTART;TZID=America/New_York:20190117T133000
DTEND;TZID=America/New_York:20190117T163000
DTSTAMP:20260422T210402
CREATED:20180604T232332Z
LAST-MODIFIED:20180604T232332Z
UID:4248-1547731800-1547742600@angeleyesdawnmarie.com
SUMMARY:Automatic Writing Workshop Level 7\, Jan 17th
DESCRIPTION:Automatic Writing Workshop Certification Course Level VII\nCommunicating with the Other Side
URL:https://angeleyesdawnmarie.com/event/automatic-writing-workshop-level-7-jan-17th/
LOCATION:Long Island Healing Arts & Learning Center\, 868 West Jericho Turnpike\, West Hills (Huntington)\, NY\, 11743\, United States
CATEGORIES:Automatic Writing Workshop
END:VEVENT
END:VCALENDAR