BEGIN:VCALENDAR
VERSION:2.0
PRODID:-//Angel Eyes Dawn Marie - ECPv6.15.17//NONSGML v1.0//EN
CALSCALE:GREGORIAN
METHOD:PUBLISH
X-ORIGINAL-URL:https://angeleyesdawnmarie.com
X-WR-CALDESC:Events for Angel Eyes Dawn Marie
REFRESH-INTERVAL;VALUE=DURATION:PT1H
X-Robots-Tag:noindex
X-PUBLISHED-TTL:PT1H
BEGIN:VTIMEZONE
TZID:America/New_York
BEGIN:DAYLIGHT
TZOFFSETFROM:-0500
TZOFFSETTO:-0400
TZNAME:EDT
DTSTART:20180311T070000
END:DAYLIGHT
BEGIN:STANDARD
TZOFFSETFROM:-0400
TZOFFSETTO:-0500
TZNAME:EST
DTSTART:20181104T060000
END:STANDARD
BEGIN:DAYLIGHT
TZOFFSETFROM:-0500
TZOFFSETTO:-0400
TZNAME:EDT
DTSTART:20190310T070000
END:DAYLIGHT
BEGIN:STANDARD
TZOFFSETFROM:-0400
TZOFFSETTO:-0500
TZNAME:EST
DTSTART:20191103T060000
END:STANDARD
BEGIN:DAYLIGHT
TZOFFSETFROM:-0500
TZOFFSETTO:-0400
TZNAME:EDT
DTSTART:20200308T070000
END:DAYLIGHT
BEGIN:STANDARD
TZOFFSETFROM:-0400
TZOFFSETTO:-0500
TZNAME:EST
DTSTART:20201101T060000
END:STANDARD
END:VTIMEZONE
BEGIN:VEVENT
DTSTART;TZID=America/New_York:20190311T143000
DTEND;TZID=America/New_York:20190311T173000
DTSTAMP:20260422T181338
CREATED:20190125T020625Z
LAST-MODIFIED:20190125T020625Z
UID:4444-1552314600-1552325400@angeleyesdawnmarie.com
SUMMARY:Automatic Writing Workshop Certification Course Level II\, Mar. 2019
DESCRIPTION:Automatic Writing Workshop Certification Course\nCommunicating with the Other Side\nLevel II \nIn this seven-level course you will expand your intuition and your  spiritual awareness. Automatic Writing can be the most accessible way for any person to become their own conduit to that which guides them.  Automatic Writing can provide a pathway to communicate with the other side along with connecting with past lives. With cultivation of this technique\,  you can access guidance whenever you wish. You will learn to connect  with your Guides\, Angels\, Ascended Masters and Loved Ones as you  facilitate Automatic Writing for yourself and others.  Yes\, you can do it! \nBegins Monday\, Feb. 25\, 2019!   \nCourse: $444 (Full course\, includes booklets for each level)\nGo to paypal.me/angeldawnmarie and type in the amount to pay online. \nRSVP by Email: dawn@angeleyesdawnmarie.com or 516.578.4766 (text preferred) \nClasses held exclusively at the Long Island Healing Arts & Learning Center
URL:https://angeleyesdawnmarie.com/event/automatic-writing-workshop-certification-course-level-2-mar-2019/
LOCATION:Long Island Healing Arts & Learning Center\, 868 West Jericho Turnpike\, West Hills (Huntington)\, NY\, 11743\, United States
CATEGORIES:Automatic Writing Workshop
END:VEVENT
BEGIN:VEVENT
DTSTART;TZID=America/New_York:20190314T143000
DTEND;TZID=America/New_York:20190314T173000
DTSTAMP:20260422T181338
CREATED:20190125T042624Z
LAST-MODIFIED:20190125T042624Z
UID:4468-1552573800-1552584600@angeleyesdawnmarie.com
SUMMARY:Angel Card Workshop Certification Course\, Level II\, Mar. 14 2019
DESCRIPTION:Angel Card Workshop Certification Course\nConnecting with Your Angels and Ascending Masters\nLevel II \nIn this seven-level course you will expand your intuition and your spiritual awareness. You will learn how to conduct strong readings for yourself and others. You will be able to tune-in and powerfully connect with your Angel Cards. We will also work with strengthening your intuition\, clairsenses\, mediumship and channeling abilities. You will learn to connect with your Guides\, Angels\, Ascended Masters and Loved Ones as you facilitate Angel Card Readings for yourself and others.\nYes\, you can do it! \nCourse: $444 (Full course\, includes booklets for each level)\nGo to paypal.me/angeldawnmarie and type in the amount to pay online. \nRSVP by Email: dawn@angeleyesdawnmarie.com or 516.578.4766 (text preferred) \nClasses held exclusively at the Long Island Healing Arts & Learning Center
URL:https://angeleyesdawnmarie.com/event/angel-card-workshop-certification-course-level-ii-mar-14-2019/
LOCATION:Long Island Healing Arts & Learning Center\, 868 West Jericho Turnpike\, West Hills (Huntington)\, NY\, 11743\, United States
CATEGORIES:Angel Card Workshop
END:VEVENT
BEGIN:VEVENT
DTSTART;TZID=America/New_York:20190318T143000
DTEND;TZID=America/New_York:20190318T173000
DTSTAMP:20260422T181338
CREATED:20190125T020831Z
LAST-MODIFIED:20190125T020831Z
UID:4446-1552919400-1552930200@angeleyesdawnmarie.com
SUMMARY:Automatic Writing Workshop Certification Course Level III\, Mar. 2019
DESCRIPTION:Automatic Writing Workshop Certification Course\nCommunicating with the Other Side\nLevel III \nIn this seven-level course you will expand your intuition and your  spiritual awareness. Automatic Writing can be the most accessible way for any person to become their own conduit to that which guides them.  Automatic Writing can provide a pathway to communicate with the other side along with connecting with past lives. With cultivation of this technique\,  you can access guidance whenever you wish. You will learn to connect  with your Guides\, Angels\, Ascended Masters and Loved Ones as you  facilitate Automatic Writing for yourself and others.  Yes\, you can do it! \nCourse: $444 (Full course\, includes booklets for each level)\nGo to paypal.me/angeldawnmarie and type in the amount to pay online. \nRSVP by Email: dawn@angeleyesdawnmarie.com or 516.578.4766 (text preferred) \nClasses held exclusively at the Long Island Healing Arts & Learning Center
URL:https://angeleyesdawnmarie.com/event/automatic-writing-workshop-certification-course-level-iii-mar-2019/
LOCATION:Long Island Healing Arts & Learning Center\, 868 West Jericho Turnpike\, West Hills (Huntington)\, NY\, 11743\, United States
CATEGORIES:Automatic Writing Workshop
END:VEVENT
BEGIN:VEVENT
DTSTART;TZID=America/New_York:20190321T143000
DTEND;TZID=America/New_York:20190321T173000
DTSTAMP:20260422T181338
CREATED:20190125T042911Z
LAST-MODIFIED:20190125T042911Z
UID:4470-1553178600-1553189400@angeleyesdawnmarie.com
SUMMARY:Angel Card Workshop Certification Course\, Level III\, Mar. 21 2019
DESCRIPTION:Angel Card Workshop Certification Course\nConnecting with Your Angels and Ascending Masters\nLevel III \nIn this seven-level course you will expand your intuition and your spiritual awareness. You will learn how to conduct strong readings for yourself and others. You will be able to tune-in and powerfully connect with your Angel Cards. We will also work with strengthening your intuition\, clairsenses\, mediumship and channeling abilities. You will learn to connect with your Guides\, Angels\, Ascended Masters and Loved Ones as you facilitate Angel Card Readings for yourself and others.\nYes\, you can do it! \nCourse: $444 (Full course\, includes booklets for each level)\nGo to paypal.me/angeldawnmarie and type in the amount to pay online. \nRSVP by Email: dawn@angeleyesdawnmarie.com or 516.578.4766 (text preferred) \nClasses held exclusively at the Long Island Healing Arts & Learning Center
URL:https://angeleyesdawnmarie.com/event/angel-card-workshop-certification-course-level-3-mar-21-2019/
LOCATION:Long Island Healing Arts & Learning Center\, 868 West Jericho Turnpike\, West Hills (Huntington)\, NY\, 11743\, United States
CATEGORIES:Angel Card Workshop
END:VEVENT
BEGIN:VEVENT
DTSTART;TZID=America/New_York:20190325T143000
DTEND;TZID=America/New_York:20190325T173000
DTSTAMP:20260422T181338
CREATED:20190125T021005Z
LAST-MODIFIED:20190125T021032Z
UID:4448-1553524200-1553535000@angeleyesdawnmarie.com
SUMMARY:Automatic Writing Workshop Certification Course Level IV\, Mar. 2019
DESCRIPTION:Automatic Writing Workshop Certification Course\nCommunicating with the Other Side\nLevel VI \nIn this seven-level course you will expand your intuition and your  spiritual awareness. Automatic Writing can be the most accessible way for any person to become their own conduit to that which guides them.  Automatic Writing can provide a pathway to communicate with the other side along with connecting with past lives. With cultivation of this technique\,  you can access guidance whenever you wish. You will learn to connect  with your Guides\, Angels\, Ascended Masters and Loved Ones as you  facilitate Automatic Writing for yourself and others.  Yes\, you can do it! \nCourse: $444 (Full course\, includes booklets for each level)\nGo to paypal.me/angeldawnmarie and type in the amount to pay online. \nRSVP by Email: dawn@angeleyesdawnmarie.com or 516.578.4766 (text preferred) \nClasses held exclusively at the Long Island Healing Arts & Learning Center
URL:https://angeleyesdawnmarie.com/event/automatic-writing-workshop-certification-course-level-4-mar-2019/
LOCATION:Long Island Healing Arts & Learning Center\, 868 West Jericho Turnpike\, West Hills (Huntington)\, NY\, 11743\, United States
CATEGORIES:Automatic Writing Workshop
END:VEVENT
BEGIN:VEVENT
DTSTART;TZID=America/New_York:20190328T143000
DTEND;TZID=America/New_York:20190328T173000
DTSTAMP:20260422T181338
CREATED:20190125T043121Z
LAST-MODIFIED:20190125T043141Z
UID:4473-1553783400-1553794200@angeleyesdawnmarie.com
SUMMARY:Angel Card Workshop Certification Course\, Level IV\, Mar. 28 2019
DESCRIPTION:Angel Card Workshop Certification Course\nConnecting with Your Angels and Ascending Masters\nLevel IV \nIn this seven-level course you will expand your intuition and your spiritual awareness. You will learn how to conduct strong readings for yourself and others. You will be able to tune-in and powerfully connect with your Angel Cards. We will also work with strengthening your intuition\, clairsenses\, mediumship and channeling abilities. You will learn to connect with your Guides\, Angels\, Ascended Masters and Loved Ones as you facilitate Angel Card Readings for yourself and others.\nYes\, you can do it! \nCourse: $444 (Full course\, includes booklets for each level)\nGo to paypal.me/angeldawnmarie and type in the amount to pay online. \nRSVP by Email: dawn@angeleyesdawnmarie.com or 516.578.4766 (text preferred) \nClasses held exclusively at the Long Island Healing Arts & Learning Center
URL:https://angeleyesdawnmarie.com/event/angel-card-workshop-certification-course-level-4-mar-28-2019/
LOCATION:Long Island Healing Arts & Learning Center\, 868 West Jericho Turnpike\, West Hills (Huntington)\, NY\, 11743\, United States
CATEGORIES:Angel Card Workshop
END:VEVENT
END:VCALENDAR