BEGIN:VCALENDAR
VERSION:2.0
PRODID:-//Angel Eyes Dawn Marie - ECPv6.15.17//NONSGML v1.0//EN
CALSCALE:GREGORIAN
METHOD:PUBLISH
X-ORIGINAL-URL:https://angeleyesdawnmarie.com
X-WR-CALDESC:Events for Angel Eyes Dawn Marie
REFRESH-INTERVAL;VALUE=DURATION:PT1H
X-Robots-Tag:noindex
X-PUBLISHED-TTL:PT1H
BEGIN:VTIMEZONE
TZID:America/New_York
BEGIN:DAYLIGHT
TZOFFSETFROM:-0500
TZOFFSETTO:-0400
TZNAME:EDT
DTSTART:20180311T070000
END:DAYLIGHT
BEGIN:STANDARD
TZOFFSETFROM:-0400
TZOFFSETTO:-0500
TZNAME:EST
DTSTART:20181104T060000
END:STANDARD
BEGIN:DAYLIGHT
TZOFFSETFROM:-0500
TZOFFSETTO:-0400
TZNAME:EDT
DTSTART:20190310T070000
END:DAYLIGHT
BEGIN:STANDARD
TZOFFSETFROM:-0400
TZOFFSETTO:-0500
TZNAME:EST
DTSTART:20191103T060000
END:STANDARD
BEGIN:DAYLIGHT
TZOFFSETFROM:-0500
TZOFFSETTO:-0400
TZNAME:EDT
DTSTART:20200308T070000
END:DAYLIGHT
BEGIN:STANDARD
TZOFFSETFROM:-0400
TZOFFSETTO:-0500
TZNAME:EST
DTSTART:20201101T060000
END:STANDARD
END:VTIMEZONE
BEGIN:VEVENT
DTSTART;TZID=America/New_York:20190513T150000
DTEND;TZID=America/New_York:20190513T170000
DTSTAMP:20260422T145840
CREATED:20190506T075159Z
LAST-MODIFIED:20190506T075159Z
UID:4540-1557759600-1557766800@angeleyesdawnmarie.com
SUMMARY:Introduction to Expanding Your Intuition\, May 13
DESCRIPTION:Introduction to Expanding Your Intuition through Meditation\, Angel Cards and Automatic Writing\nI have received many inquiries about the courses I offer\, so I created this class just for you. If you have been thinking of joining the Seven-Level Workshops this a perfect class that gives you a taste of both and see if it resonates with you. Or maybe help you decide which one to take first!!! LOL \nIn this class I will discuss how various tools truly assist you in connecting to the Divine and ultimately will expand your intuition. You will find out which one works better for you\, or maybe you will love both ways. We will also practice using these tools on receiving a reading and a writing on ourselves and on others. It will be a great class! \nPerfect for Beginners that have been wanting to expand and develop their intuition. And for my seasoned veterans it will be a nice refresher course and to get some practice in for yourself and receiving messages for others. \n$44 Cash at the door or PayPal (before the event)\nGo to paypal.me/angeldawnmarie and type in the amount to pay online \nRSVP by Email: dawn@angeleyesdawnmarie.com or Cell: 516.578.4766 (text preferred)
URL:https://angeleyesdawnmarie.com/event/introduction-to-expanding-your-intuition-may-13/
LOCATION:Long Island Healing Arts & Learning Center\, 868 West Jericho Turnpike\, West Hills (Huntington)\, NY\, 11743\, United States
CATEGORIES:Spiritual Awareness/ Intuitive Development
END:VEVENT
BEGIN:VEVENT
DTSTART;TZID=America/New_York:20190513T150000
DTEND;TZID=America/New_York:20190513T170000
DTSTAMP:20260422T145840
CREATED:20190510T032817Z
LAST-MODIFIED:20190510T032817Z
UID:4557-1557759600-1557766800@angeleyesdawnmarie.com
SUMMARY:Introduction to Expanding Your Intuition\, May 13
DESCRIPTION:Introduction to Expanding Your Intuition through Meditation\, Angel Cards and Automatic Writing \nI have received many inquiries about the courses I offer\, so I created this class just for you. If you have been thinking of joining the Seven-Level Workshops this a perfect class that gives you a taste of both and see if it resonates with you. Or maybe help you decide which one to take first!!! LOL \nIn this class I will discuss how various tools truly assist you in connecting to the Divine and ultimately will expand your intuition. You will find out which one works better for you\, or maybe you will love both ways. We will also practice using these tools on receiving a reading and a writing on ourselves and on others. It will be a great class! \nPerfect for Beginners that have been wanting to expand and develop their intuition. And for my seasoned veterans it will be a nice refresher course and to get some practice in for yourself and receiving messages for others. \n$44 Cash at the door or PayPal (before the event)\nGo to paypal.me/angeldawnmarie and type in the amount to pay online \nRSVP by Email: dawn@angeleyesdawnmarie.com or Cell: 516.578.4766 (text preferred)
URL:https://angeleyesdawnmarie.com/event/introduction-to-expanding-your-intuition-may-13-2/
LOCATION:Long Island Healing Arts & Learning Center\, 868 West Jericho Turnpike\, West Hills (Huntington)\, NY\, 11743\, United States
CATEGORIES:Spiritual Awareness/ Intuitive Development
END:VEVENT
BEGIN:VEVENT
DTSTART;TZID=America/New_York:20190516T143000
DTEND;TZID=America/New_York:20190516T173000
DTSTAMP:20260422T145840
CREATED:20190506T074233Z
LAST-MODIFIED:20190506T074233Z
UID:4533-1558017000-1558027800@angeleyesdawnmarie.com
SUMMARY:Advanced Angel Card Workshop Post-Grad Open Forum
DESCRIPTION:Advanced Angel Card Workshop Post-Grad Open Forum\n— Open to all Angel Card Grads! —\nPlay date with spirit and fellow angels!!! I will bring you into a Meditation Connecting with your Guides and Angels to assist you in your Angel Card Readings. There will be a Q&A Forum to discuss how your Angel Card Readings are going and to give you an opportunity to ask any questions you may have. We will also have time to practice. \nIt will be a night of Learning\, Growing and of course Fun!! Namaste!! \nPre-registration required\n$44 Cash at the door or PayPal (before the event)\nGo to paypal.me/angeldawnmarie and type in the amount to pay online
URL:https://angeleyesdawnmarie.com/event/advanced-angel-card-workshop-post-grad-open-forum/
LOCATION:Long Island Healing Arts & Learning Center\, 868 West Jericho Turnpike\, West Hills (Huntington)\, NY\, 11743\, United States
CATEGORIES:Advanced Angel Card Workshop
END:VEVENT
BEGIN:VEVENT
DTSTART;TZID=America/New_York:20190520T143000
DTEND;TZID=America/New_York:20190520T173000
DTSTAMP:20260422T145840
CREATED:20190510T032352Z
LAST-MODIFIED:20190510T032412Z
UID:4550-1558362600-1558373400@angeleyesdawnmarie.com
SUMMARY:Mediumship Class—May 20th
DESCRIPTION:“Reconnect With Your Loved Ones on the Other Side” \nIn this class you will be given the tools and steps to connect and communicate with your loved ones that are around you. Our loved ones are around us all the time\, they come to us with a loving sign. Some of the signs you may have had are songs\, scents\, coins\, birds\, or just a feeling they are there and many\, many other ways. Come reconnect with your loved ones and find a new way of embracing their presence now and always. \nOpen to all\, beginners or advanced welcomed! \nPre-registration required\n$44 Cash at the door or PayPal (before the event)\nGo to paypal.me/angeldawnmarie and type in the amount to pay online \nRSVP by Email: dawn@angeleyesdawnmarie.com or\nCell: 516.578.4766 (text preferred)
URL:https://angeleyesdawnmarie.com/event/mediumship-class-may-20th/
LOCATION:Long Island Healing Arts & Learning Center\, 868 West Jericho Turnpike\, West Hills (Huntington)\, NY\, 11743\, United States
CATEGORIES:Mediumship
END:VEVENT
END:VCALENDAR