BEGIN:VCALENDAR
VERSION:2.0
PRODID:-//Angel Eyes Dawn Marie - ECPv6.15.17//NONSGML v1.0//EN
CALSCALE:GREGORIAN
METHOD:PUBLISH
X-ORIGINAL-URL:https://angeleyesdawnmarie.com
X-WR-CALDESC:Events for Angel Eyes Dawn Marie
REFRESH-INTERVAL;VALUE=DURATION:PT1H
X-Robots-Tag:noindex
X-PUBLISHED-TTL:PT1H
BEGIN:VTIMEZONE
TZID:America/New_York
BEGIN:DAYLIGHT
TZOFFSETFROM:-0500
TZOFFSETTO:-0400
TZNAME:EDT
DTSTART:20180311T070000
END:DAYLIGHT
BEGIN:STANDARD
TZOFFSETFROM:-0400
TZOFFSETTO:-0500
TZNAME:EST
DTSTART:20181104T060000
END:STANDARD
BEGIN:DAYLIGHT
TZOFFSETFROM:-0500
TZOFFSETTO:-0400
TZNAME:EDT
DTSTART:20190310T070000
END:DAYLIGHT
BEGIN:STANDARD
TZOFFSETFROM:-0400
TZOFFSETTO:-0500
TZNAME:EST
DTSTART:20191103T060000
END:STANDARD
BEGIN:DAYLIGHT
TZOFFSETFROM:-0500
TZOFFSETTO:-0400
TZNAME:EDT
DTSTART:20200308T070000
END:DAYLIGHT
BEGIN:STANDARD
TZOFFSETFROM:-0400
TZOFFSETTO:-0500
TZNAME:EST
DTSTART:20201101T060000
END:STANDARD
END:VTIMEZONE
BEGIN:VEVENT
DTSTART;TZID=America/New_York:20190711T143000
DTEND;TZID=America/New_York:20190711T163000
DTSTAMP:20260422T121748
CREATED:20190602T185905Z
LAST-MODIFIED:20190602T185905Z
UID:4623-1562855400-1562862600@angeleyesdawnmarie.com
SUMMARY:Mediumship Development Circle\, July 11
DESCRIPTION:This circle is for beginners and advanced. \nIn this 5-week Development Circle you will learn tools and practice your innate mediumship abilities that are within you. \nWe will all learn and grow together. \nThursdays 6:30-8:30\nJune 20th\, June 27th\, July 11th\, July 18th & July 25th \n$222 through PayPal (before the class)\nGo to paypal.me/angeldawnmarie and type in the amount to pay online \nREGISTRATION REQUIRED\nRSVP by Email: dawn@angeleyesdawnmarie.com or Cell: 516.578.4766 (text preferred)
URL:https://angeleyesdawnmarie.com/event/mediumship-development-circle-july-11/
LOCATION:Long Island Healing Arts & Learning Center\, 868 West Jericho Turnpike\, West Hills (Huntington)\, NY\, 11743\, United States
CATEGORIES:Mediumship,Mediumship Development Circle
END:VEVENT
BEGIN:VEVENT
DTSTART;TZID=America/New_York:20190715T143000
DTEND;TZID=America/New_York:20190715T173000
DTSTAMP:20260422T121748
CREATED:20190602T014302Z
LAST-MODIFIED:20190602T014323Z
UID:4595-1563201000-1563211800@angeleyesdawnmarie.com
SUMMARY:Automatic Writing Workshop Certification Course Level II\, July 15
DESCRIPTION:
URL:https://angeleyesdawnmarie.com/event/automatic-writing-workshop-certification-course-level-2-july-15/
LOCATION:Long Island Healing Arts & Learning Center\, 868 West Jericho Turnpike\, West Hills (Huntington)\, NY\, 11743\, United States
CATEGORIES:Automatic Writing Workshop
END:VEVENT
BEGIN:VEVENT
DTSTART;TZID=America/New_York:20190718T143000
DTEND;TZID=America/New_York:20190718T163000
DTSTAMP:20260422T121748
CREATED:20190602T190008Z
LAST-MODIFIED:20190602T190008Z
UID:4625-1563460200-1563467400@angeleyesdawnmarie.com
SUMMARY:Mediumship Development Circle July 18
DESCRIPTION:This circle is for beginners and advanced. \nIn this 5-week Development Circle you will learn tools and practice your innate mediumship abilities that are within you. \nWe will all learn and grow together. \nThursdays 6:30-8:30\nJune 20th\, June 27th\, July 11th\, July 18th & July 25th \n$222 through PayPal (before the class)\nGo to paypal.me/angeldawnmarie and type in the amount to pay online \nREGISTRATION REQUIRED\nRSVP by Email: dawn@angeleyesdawnmarie.com or Cell: 516.578.4766 (text preferred)
URL:https://angeleyesdawnmarie.com/event/mediumship-development-circle-july-18/
LOCATION:Long Island Healing Arts & Learning Center\, 868 West Jericho Turnpike\, West Hills (Huntington)\, NY\, 11743\, United States
CATEGORIES:Mediumship Development Circle
END:VEVENT
BEGIN:VEVENT
DTSTART;TZID=America/New_York:20190719T160000
DTEND;TZID=America/New_York:20190719T180000
DTSTAMP:20260422T121748
CREATED:20190510T032128Z
LAST-MODIFIED:20190510T032128Z
UID:4552-1563552000-1563559200@angeleyesdawnmarie.com
SUMMARY:Mediumship: Be Your Own Medium
DESCRIPTION:Our loved ones are around us all the time\, they come to us with a loving sign. Some of the signs you may have had are songs\, scents\, coins\, birds\, or just a feeling they are there and many\, many other ways. In this lecture you will be given the tools and steps to connect and communicate with your loved ones that are around you. You may even connect with a guide or Angel that is around you as well. Embrace who shows up for you and enjoy the spirit connection. \nJoin Dawn Marie at this lecture and reconnect with your loved ones directly and embrace new way of communicating with them in spirit. For their presence is with you now and always. \nOpen to all\, beginners or advanced welcomed! \nEVENT PRESENTED BY EYES OF LEARNING\n$10 members | $15 non-members\nPay at the door
URL:https://angeleyesdawnmarie.com/event/mediumship-be-your-own-medium/
LOCATION:Levittown Hall\, 203 Levittown Pkwy\, Hicksville\, NY\, United States
CATEGORIES:Mediumship
END:VEVENT
BEGIN:VEVENT
DTSTART;TZID=America/New_York:20190725T143000
DTEND;TZID=America/New_York:20190725T163000
DTSTAMP:20260422T121748
CREATED:20190602T190113Z
LAST-MODIFIED:20190602T190258Z
UID:4627-1564065000-1564072200@angeleyesdawnmarie.com
SUMMARY:Mediumship Development Circle\, July 25
DESCRIPTION:This circle is for beginners and advanced. \nIn this 5-week Development Circle you will learn tools and practice your innate mediumship abilities that are within you. \nWe will all learn and grow together. \nThursdays 6:30-8:30\nJune 20th\, June 27th\, July 11th\, July 18th & July 25th \n$222 through PayPal (before the class)\nGo to paypal.me/angeldawnmarie and type in the amount to pay online \nREGISTRATION REQUIRED\nRSVP by Email: dawn@angeleyesdawnmarie.com or Cell: 516.578.4766 (text preferred)
URL:https://angeleyesdawnmarie.com/event/mediumship-development-circle-july-25/
LOCATION:Long Island Healing Arts & Learning Center\, 868 West Jericho Turnpike\, West Hills (Huntington)\, NY\, 11743\, United States
CATEGORIES:Mediumship Development Circle
END:VEVENT
BEGIN:VEVENT
DTSTART;TZID=America/New_York:20190729T143000
DTEND;TZID=America/New_York:20190729T173000
DTSTAMP:20260422T121748
CREATED:20190602T014506Z
LAST-MODIFIED:20190602T014524Z
UID:4597-1564410600-1564421400@angeleyesdawnmarie.com
SUMMARY:Automatic Writing Workshop Certification Course Level III\, July 29
DESCRIPTION:
URL:https://angeleyesdawnmarie.com/event/automatic-writing-workshop-certification-course-level-3-july-29/
LOCATION:Long Island Healing Arts & Learning Center\, 868 West Jericho Turnpike\, West Hills (Huntington)\, NY\, 11743\, United States
CATEGORIES:Automatic Writing Workshop
END:VEVENT
END:VCALENDAR