BEGIN:VCALENDAR
VERSION:2.0
PRODID:-//Angel Eyes Dawn Marie - ECPv6.15.17//NONSGML v1.0//EN
CALSCALE:GREGORIAN
METHOD:PUBLISH
X-WR-CALNAME:Angel Eyes Dawn Marie
X-ORIGINAL-URL:https://angeleyesdawnmarie.com
X-WR-CALDESC:Events for Angel Eyes Dawn Marie
REFRESH-INTERVAL;VALUE=DURATION:PT1H
X-Robots-Tag:noindex
X-PUBLISHED-TTL:PT1H
BEGIN:VTIMEZONE
TZID:America/New_York
BEGIN:DAYLIGHT
TZOFFSETFROM:-0500
TZOFFSETTO:-0400
TZNAME:EDT
DTSTART:20180311T070000
END:DAYLIGHT
BEGIN:STANDARD
TZOFFSETFROM:-0400
TZOFFSETTO:-0500
TZNAME:EST
DTSTART:20181104T060000
END:STANDARD
BEGIN:DAYLIGHT
TZOFFSETFROM:-0500
TZOFFSETTO:-0400
TZNAME:EDT
DTSTART:20190310T070000
END:DAYLIGHT
BEGIN:STANDARD
TZOFFSETFROM:-0400
TZOFFSETTO:-0500
TZNAME:EST
DTSTART:20191103T060000
END:STANDARD
BEGIN:DAYLIGHT
TZOFFSETFROM:-0500
TZOFFSETTO:-0400
TZNAME:EDT
DTSTART:20200308T070000
END:DAYLIGHT
BEGIN:STANDARD
TZOFFSETFROM:-0400
TZOFFSETTO:-0500
TZNAME:EST
DTSTART:20201101T060000
END:STANDARD
END:VTIMEZONE
BEGIN:VEVENT
DTSTART;TZID=America/New_York:20191003T143000
DTEND;TZID=America/New_York:20191003T173000
DTSTAMP:20260422T080149
CREATED:20190818T075335Z
LAST-MODIFIED:20190818T075347Z
UID:4699-1570113000-1570123800@angeleyesdawnmarie.com
SUMMARY:Advanced Angel Card Workshop Certification Course Level XIV\, Oct. 3
DESCRIPTION:Open to all Angel Card Grads \nTOPICS COVERED IN THIS CLASS:\n• Mediumship\n• Archangel Azreal and Mediumship\n• Message from Archangel Azrael\n• 10 Steps to Communicate with Your Loved Ones on the Other Side\n• Meditation to Connect with Your Loved Ones\n• Mediumship Readings Step by Step\n• Summary of Delivering Mediumship Messages During\nYour Reading\n• List of Questions to Ask Loved Ones Who Passed\n• Demonstration Mediumship Reading\n• Meditation to Prepare You for Your Mediumship Reading\n• Practice Mediumship Reading
URL:https://angeleyesdawnmarie.com/event/advanced-angel-card-workshop-certification-course-level-xiv-oct-3/
LOCATION:Long Island Healing Arts & Learning Center\, 868 West Jericho Turnpike\, West Hills (Huntington)\, NY\, 11743\, United States
CATEGORIES:Advanced Angel Card Workshop
END:VEVENT
BEGIN:VEVENT
DTSTART;TZID=America/New_York:20191021T143000
DTEND;TZID=America/New_York:20191021T173000
DTSTAMP:20260422T080149
CREATED:20190602T012718Z
LAST-MODIFIED:20190602T012718Z
UID:4587-1571668200-1571679000@angeleyesdawnmarie.com
SUMMARY:Angel Card Workshop Certification Course Level I\, Oct 21
DESCRIPTION:Begins Monday\, Oct. 21st\nAngel Card Workshop Certification Course Levels I–VII\nConnecting with your Angels and Ascending Masters using Angel Cards\nIn this seven-level course you will expand your intuition and your spiritual awareness. You will learn how to conduct strong readings for yourself and others. You will be able to tune-in and powerfully connect with your Angel Cards. We will also work with strengthening your intuition\, clairsenses\, mediumship and channeling abilities. You will learn to connect with your Guides\, Angels\, Ascended Masters and Loved Ones as you facilitate Angel Card Readings for yourself and others. Yes\, you can do it! \nCourse Information\nCompletion of all seven levels and homework is required to receive certification. \nCourse: $444 (Full course\, includes booklets for each level) \nMondays\, 6:30pm – 9:30pm \nBegins Monday\, Oct. 21st!\nOct. 21st — Level I\nNov. 4th — Level II\nNov. 18th — Level III\nNov. 25th — Level IV\nDec. 2nd — Level V\nDec. 9th — Level VI\nDec. 16th — Level VII \nAll classes held exclusively at:\nLong Island Healing Arts & Learning Center\n868 West Jericho Turnpike West Hills (Huntington)\, NY 11843\n631.233.2781 \n\n\nRegister Today!\nInvestment: $444\nTo pay online go to paypal.me/angeldawnmarie and type in the full amount.\n$111 to register\nCash or check at the door. \nREGISTRATION REQUIRED\nRSVP by text to Dawn at 516.578.4766 \nPay online: go to paypal.me/angeldawnmarie and type in the amount.
URL:https://angeleyesdawnmarie.com/event/angel-card-workshop-certification-course-level-i-oct-21/
LOCATION:Long Island Healing Arts & Learning Center\, 868 West Jericho Turnpike\, West Hills (Huntington)\, NY\, 11743\, United States
CATEGORIES:Angel Card Workshop
END:VEVENT
BEGIN:VEVENT
DTSTART;TZID=America/New_York:20191023T143000
DTEND;TZID=America/New_York:20191023T163000
DTSTAMP:20260422T080149
CREATED:20190831T051401Z
LAST-MODIFIED:20190831T051411Z
UID:4750-1571841000-1571848200@angeleyesdawnmarie.com
SUMMARY:Introduction to Angel Cards and Automatic Writing\, Sept. 23
DESCRIPTION:Expand Your Intuition!!\nIntroduction to Angel Cards and Automatic Writing \nI have received many inquiries about the courses I offer\, so I created this class just for you. If you have been thinking of joining the Seven-Level Workshops this a perfect class that gives you a taste of both and see if it resonates with you. Or maybe help you decide which one to take first!!! LOL \nIn this class I will discuss how various tools truly assist you in connecting to the Divine and ultimately will expand your intuition. You will find out which one works better for you\, or maybe you will love both ways. We will also practice using these tools on receiving a reading and a writing on ourselves and on others. It will be a great class! \nPerfect for Beginners that have been wanting to expand and develop their intuition. And for my seasoned veterans it will be a nice refresher course and to get some practice in for yourself and receiving messages for others. \n$44 Cash at the door or PayPal (before the event)\nGo to paypal.me/angeldawnmarie and type in the amount to pay online\nMonday\, Sept. 23rd | 6:30-8:30pm
URL:https://angeleyesdawnmarie.com/event/introduction-to-angel-cards-and-automatic-writing-sept-23/
LOCATION:Long Island Healing Arts & Learning Center\, 868 West Jericho Turnpike\, West Hills (Huntington)\, NY\, 11743\, United States
CATEGORIES:Intro to Automatic Writing,Introduction to Angel Cards,Spiritual Awareness/ Intuitive Development
END:VEVENT
BEGIN:VEVENT
DTSTART;TZID=America/New_York:20191029T143000
DTEND;TZID=America/New_York:20191029T173000
DTSTAMP:20260422T080149
CREATED:20191023T225129Z
LAST-MODIFIED:20191023T232020Z
UID:4864-1572359400-1572370200@angeleyesdawnmarie.com
SUMMARY:Angel Card Workshop Certification Course Level I\, Oct. 29
DESCRIPTION:Begins Monday\, Oct. 21st\nAngel Card Workshop Certification Course Levels I–VII\nConnecting with your Angels and Ascending Masters using Angel Cards\nIn this seven-level course you will expand your intuition and your spiritual awareness. You will learn how to conduct strong readings for yourself and others. You will be able to tune-in and powerfully connect with your Angel Cards. We will also work with strengthening your intuition\, clairsenses\, mediumship and channeling abilities. You will learn to connect with your Guides\, Angels\, Ascended Masters and Loved Ones as you facilitate Angel Card Readings for yourself and others. Yes\, you can do it! \nCourse Information\nCompletion of all seven levels and homework is required to receive certification. \nCourse: $444 (Full course\, includes booklets for each level) \nMondays\, 6:30pm – 9:30pm\nPlease note that Level I is on TUESDAY\, Oct. 29th. All other classes are on Mondays.\n \nOct. 29th — Level I\nNov. 4th — Level II\nNov. 18th — Level III\nNov. 25th — Level IV\nDec. 2nd — Level V\nDec. 9th — Level VI\nDec. 16th — Level VII \nAll classes held exclusively at:\nLong Island Healing Arts & Learning Center\n868 West Jericho Turnpike West Hills (Huntington)\, NY 11843\n631.233.2781 \n\n\nRegister Today!\nInvestment: $444\nTo pay online go to paypal.me/angeldawnmarie and type in the full amount.\n$111 to register\nCash or check at the door. \nREGISTRATION REQUIRED\nRSVP by text to Dawn at 516.578.4766 \nPay online: go to paypal.me/angeldawnmarie and type in the amount.
URL:https://angeleyesdawnmarie.com/event/angel-card-workshop-certification-course-level-i-oct-29/
LOCATION:Long Island Healing Arts & Learning Center\, 868 West Jericho Turnpike\, West Hills (Huntington)\, NY\, 11743\, United States
CATEGORIES:Angel Card Workshop
END:VEVENT
END:VCALENDAR