BEGIN:VCALENDAR
VERSION:2.0
PRODID:-//Angel Eyes Dawn Marie - ECPv6.15.17//NONSGML v1.0//EN
CALSCALE:GREGORIAN
METHOD:PUBLISH
X-WR-CALNAME:Angel Eyes Dawn Marie
X-ORIGINAL-URL:https://angeleyesdawnmarie.com
X-WR-CALDESC:Events for Angel Eyes Dawn Marie
REFRESH-INTERVAL;VALUE=DURATION:PT1H
X-Robots-Tag:noindex
X-PUBLISHED-TTL:PT1H
BEGIN:VTIMEZONE
TZID:America/New_York
BEGIN:DAYLIGHT
TZOFFSETFROM:-0500
TZOFFSETTO:-0400
TZNAME:EDT
DTSTART:20190310T070000
END:DAYLIGHT
BEGIN:STANDARD
TZOFFSETFROM:-0400
TZOFFSETTO:-0500
TZNAME:EST
DTSTART:20191103T060000
END:STANDARD
BEGIN:DAYLIGHT
TZOFFSETFROM:-0500
TZOFFSETTO:-0400
TZNAME:EDT
DTSTART:20200308T070000
END:DAYLIGHT
BEGIN:STANDARD
TZOFFSETFROM:-0400
TZOFFSETTO:-0500
TZNAME:EST
DTSTART:20201101T060000
END:STANDARD
BEGIN:DAYLIGHT
TZOFFSETFROM:-0500
TZOFFSETTO:-0400
TZNAME:EDT
DTSTART:20210314T070000
END:DAYLIGHT
BEGIN:STANDARD
TZOFFSETFROM:-0400
TZOFFSETTO:-0500
TZNAME:EST
DTSTART:20211107T060000
END:STANDARD
END:VTIMEZONE
BEGIN:VEVENT
DTSTART;TZID=America/New_York:20200602T183000
DTEND;TZID=America/New_York:20200602T213000
DTSTAMP:20260421T201609
CREATED:20200428T233353Z
LAST-MODIFIED:20200430T212653Z
UID:5520-1591122600-1591133400@angeleyesdawnmarie.com
SUMMARY:Automatic Writing Workshop Level IV\, June 2nd
DESCRIPTION:TUESDAYS\, 6:30pm – 9:30pm | $444 \nCLASS DATES:\nMay 12th — Level I\nMay 19th — Level II\nMay 26th — Level III\nJune 2nd — Level VI\nJune 9th — Level V\nJune 16th — Level VI\nJune 23rd — Level VII
URL:https://angeleyesdawnmarie.com/event/automatic-writing-workshop-level-4-june-2nd/
CATEGORIES:Automatic Writing Workshop
END:VEVENT
BEGIN:VEVENT
DTSTART;TZID=America/New_York:20200604T183000
DTEND;TZID=America/New_York:20200604T213000
DTSTAMP:20260421T201609
CREATED:20200323T154355Z
LAST-MODIFIED:20200323T154355Z
UID:5329-1591295400-1591306200@angeleyesdawnmarie.com
SUMMARY:Mediumship Development Course Level V
DESCRIPTION:Thursdays\, 6:30-9:30 | $444 for series\nOnline through Zoom\nMarch 26\, April 16 & 30 May 21\, June 4\, 11 & 25 \nRegistration required—please PayPal and text your full name/email/phone to Dawn Marie at 516.578.4766.\nGo to paypal.me/angeldawnmarie and type in the amount to pay online \nPlease note: This course is currently available only online through Zoom. Classes may resume at the Long Island Healing Arts and Learning Center at a later date.
URL:https://angeleyesdawnmarie.com/event/mediumship-development-course-level-5/
CATEGORIES:Mediumship Workshop Certification Course
END:VEVENT
BEGIN:VEVENT
DTSTART;TZID=America/New_York:20200606T200000
DTEND;TZID=America/New_York:20200606T213000
DTSTAMP:20260421T201609
CREATED:20200605T125007Z
LAST-MODIFIED:20210624T184244Z
UID:5748-1591473600-1591479000@angeleyesdawnmarie.com
SUMMARY:Special Event Free Zoom Class: We Are the Leaders of the Light
DESCRIPTION:We are the Leaders of the Light\nSpecial Event Free Zoom Class\nSaturday\, June 6th at 8:00pm \nDebut and Discussion of Dawn Marie’s Song“It’s Your Time to Shine (Time to Be Seen)”\nAre you living your truth\, building your “Soul-Esteem” and shining your light? \nJoin Dawn Marie\, Linda & Gregg Romano and Denise Simone \nJoin us Saturday night for the debut of my song “It’s Your Time to Shine\, Time to Be Seen.” We will be discussing the message and meaning behind the lyrics and how I was guided to co-create the song with Linda and Gregg Romano. \nWe will also be reflecting on how we can build our soul-esteem and shine our light with Transformational Coach Denise Simone. \nThe world needs you to share your gifts and Shine! We look forward to you joining us for a night of healing and inspiration. \nIf possible\, please log in from a computer for best sound quality for watching the song debut\, if not a phone is fine. Register using button below by 7PM Saturday (06/06). Check-in at 7:30PM. Event starts at 8:00PM. \n			\n				REGISTER HERE
URL:https://angeleyesdawnmarie.com/event/special-event-free-zoom-class-we-are-the-leaders-of-the-light/
CATEGORIES:We Are the Leaders of the Light
END:VEVENT
BEGIN:VEVENT
DTSTART;TZID=America/New_York:20200609T183000
DTEND;TZID=America/New_York:20200609T213000
DTSTAMP:20260421T201609
CREATED:20200430T212611Z
LAST-MODIFIED:20200430T212615Z
UID:5522-1591727400-1591738200@angeleyesdawnmarie.com
SUMMARY:Automatic Writing Workshop Level V\, June 9th
DESCRIPTION:TUESDAYS\, 6:30pm – 9:30pm | $444 \nCLASS DATES:\nMay 12th — Level I\nMay 19th — Level II\nMay 26th — Level III\nJune 2nd — Level VI\nJune 9th — Level V\nJune 16th — Level VI\nJune 23rd — Level VII
URL:https://angeleyesdawnmarie.com/event/automatic-writing-workshop-level-5-june-9th/
CATEGORIES:Automatic Writing Workshop
END:VEVENT
BEGIN:VEVENT
DTSTART;TZID=America/New_York:20200611T183000
DTEND;TZID=America/New_York:20200611T213000
DTSTAMP:20260421T201609
CREATED:20200120T045113Z
LAST-MODIFIED:20200522T171220Z
UID:5112-1591900200-1591911000@angeleyesdawnmarie.com
SUMMARY:Angel Card Workshop Course Level VII\, June 11th
DESCRIPTION:DATE CHANGE!\nOriginally scheduled for May 28th.\nThis seven level course will expand & develop your intuition. \nTHURSDAYS\, 6:30pm – 9:30pm \nPlease PayPal and text Dawn Marie at 516.578.4766 to register.\nPay online at paypal.me/angeldawnmarie\nCourse available online through Zoom.
URL:https://angeleyesdawnmarie.com/event/angel-card-workshop-course-level-7-june-11/
LOCATION:Long Island Healing Arts & Learning Center\, 868 West Jericho Turnpike\, West Hills (Huntington)\, NY\, 11743\, United States
CATEGORIES:Angel Card Workshop
END:VEVENT
BEGIN:VEVENT
DTSTART;TZID=America/New_York:20200612T143000
DTEND;TZID=America/New_York:20200612T203000
DTSTAMP:20260421T201609
CREATED:20200522T170908Z
LAST-MODIFIED:20200528T134052Z
UID:5668-1591972200-1591993800@angeleyesdawnmarie.com
SUMMARY:Private Sessions with Dawn Marie\, June 12th
DESCRIPTION:50-Minute Sessions Available  (through Zoom)\nAngel Card Readings\nMediumship Readings\nPast Life Readings\nSpiritual Counseling\nIntuitive Development Coaching\n3rd Eye Activation\nAscension Activation\nOneness Activation \nInvestment: $200 per 50-minute session\nAppointments also available June 26th. \nTo book your session\, please use the button below: \n			\n				REGISTER HERE
URL:https://angeleyesdawnmarie.com/event/private-sessions-with-dawn-marie-june-12th/
CATEGORIES:Private Sessions
END:VEVENT
BEGIN:VEVENT
DTSTART;TZID=America/New_York:20200614T200000
DTEND;TZID=America/New_York:20200614T213000
DTSTAMP:20260421T201609
CREATED:20200609T163942Z
LAST-MODIFIED:20210624T183719Z
UID:5766-1592164800-1592170200@angeleyesdawnmarie.com
SUMMARY:We Are the Leaders of the Light\, June 14
DESCRIPTION:We Are the Leaders of the Light\nSunday Night Free Zoom Class with Angel Eyes Dawn Marie\n \nSunday\, June 14th\, 2020 | 8:00pm\nTopic: Build your “Soul-Esteem” and Reclaim your Gifts\n \nJoin Dawn Marie and Co-Host Denise Simone\n			\n				\n				\n				\n				\n				It’s time to build your “Soul-Esteem” and Embrace all of who you are\, so you can shine your light. \nWe will be discussing how to awaken our true authentic self\, embrace our fears and reclaim our gifts. Fear is not to deter you but merely to guide you\, for Fear is a signal that you are going in the right direction. \n“It’s not who you are that holds you back. It’s who you think you are not.” \nSo come join us for discussion and exercise on how to surrender to your true self … and be who you’re truly meant to be. \nRegister for this event by using the button below by 7pm Sunday (6/14) night.(If you have difficulties with the registration\, please send your full name\, phone\, email and date of event to dawn@angeleyesdawnmarie.com or text 516.578.4766)You will receive an email with the Zoom link once you have been registered. \nCheck in at 7:30PM Sunday \n			\n				REGISTER HERE
URL:https://angeleyesdawnmarie.com/event/we-are-the-leaders-of-the-light-june-14/
CATEGORIES:We Are the Leaders of the Light
END:VEVENT
BEGIN:VEVENT
DTSTART;TZID=America/New_York:20200616T183000
DTEND;TZID=America/New_York:20200616T213000
DTSTAMP:20260421T201609
CREATED:20200428T233637Z
LAST-MODIFIED:20200430T212546Z
UID:5524-1592332200-1592343000@angeleyesdawnmarie.com
SUMMARY:Automatic Writing Workshop Level VI\, June 16th
DESCRIPTION:TUESDAYS\, 6:30pm – 9:30pm | $444 \nCLASS DATES:\nMay 12th — Level I\nMay 19th — Level II\nMay 26th — Level III\nJune 2nd — Level VI\nJune 9th — Level V\nJune 16th — Level VI\nJune 23rd — Level VII
URL:https://angeleyesdawnmarie.com/event/automatic-writing-workshop-level-6-june-16th/
CATEGORIES:Automatic Writing Workshop
END:VEVENT
BEGIN:VEVENT
DTSTART;TZID=America/New_York:20200618T183000
DTEND;TZID=America/New_York:20200618T213000
DTSTAMP:20260421T201609
CREATED:20200323T154510Z
LAST-MODIFIED:20200522T171745Z
UID:5331-1592505000-1592515800@angeleyesdawnmarie.com
SUMMARY:Mediumship Development Course Level VI
DESCRIPTION:Thursdays\, 6:30-9:30 | $444 for series\nOnline through Zoom\nOriginally scheduled for June 11th\n \nRegistration required—please PayPal and text your full name/email/phone to Dawn Marie at 516.578.4766.\nGo to paypal.me/angeldawnmarie and type in the amount to pay online \nPlease note: This course is currently available only online through Zoom. Classes may resume at the Long Island Healing Arts and Learning Center at a later date.
URL:https://angeleyesdawnmarie.com/event/mediumship-development-course-level-6/
CATEGORIES:Mediumship Workshop Certification Course
END:VEVENT
BEGIN:VEVENT
DTSTART;TZID=America/New_York:20200623T183000
DTEND;TZID=America/New_York:20200623T213000
DTSTAMP:20260421T201609
CREATED:20200428T233749Z
LAST-MODIFIED:20200623T143723Z
UID:5526-1592937000-1592947800@angeleyesdawnmarie.com
SUMMARY:Automatic Writing Workshop Level VI\, June 23rd
DESCRIPTION:TUESDAYS\, 6:30pm – 9:30pm | $444
URL:https://angeleyesdawnmarie.com/event/automatic-writing-workshop-level-6-june-23rd/
CATEGORIES:Automatic Writing Workshop
END:VEVENT
BEGIN:VEVENT
DTSTART;TZID=America/New_York:20200625T183000
DTEND;TZID=America/New_York:20200625T213000
DTSTAMP:20260421T201609
CREATED:20200323T154622Z
LAST-MODIFIED:20200522T171633Z
UID:5333-1593109800-1593120600@angeleyesdawnmarie.com
SUMMARY:Mediumship Development Course Level VII
DESCRIPTION:Thursdays\, 6:30-9:30 | $444 for series\nOnline through Zoom \nRegistration required—please PayPal and text your full name/email/phone to Dawn Marie at 516.578.4766.\nGo to paypal.me/angeldawnmarie and type in the amount to pay online \nPlease note: This course is currently available only online through Zoom. Classes may resume at the Long Island Healing Arts and Learning Center at a later date.
URL:https://angeleyesdawnmarie.com/event/mediumship-development-course-level-vii/
CATEGORIES:Mediumship Workshop Certification Course
END:VEVENT
BEGIN:VEVENT
DTSTART;TZID=America/New_York:20200626T143000
DTEND;TZID=America/New_York:20200626T203000
DTSTAMP:20260421T201609
CREATED:20200521T224146Z
LAST-MODIFIED:20200528T133823Z
UID:5670-1593181800-1593203400@angeleyesdawnmarie.com
SUMMARY:Private Sessions with Dawn Marie\, June 26th
DESCRIPTION:50-Minute Sessions Available (through Zoom)\nAngel Card Readings\nMediumship Readings\nPast Life Readings\nSpiritual Counseling\nIntuitive Development Coaching\n3rd Eye Activation\nAscension Activation\nOneness Activation \nInvestment: $200 per 50-minute session\nTo book your session\, please use the button below: \n			\n				REGISTER HERE
URL:https://angeleyesdawnmarie.com/event/private-sessions-with-dawn-marie-june-26th/
CATEGORIES:Private Sessions
END:VEVENT
BEGIN:VEVENT
DTSTART;TZID=America/New_York:20200628T200000
DTEND;TZID=America/New_York:20200628T213000
DTSTAMP:20260421T201609
CREATED:20200623T223712Z
LAST-MODIFIED:20200625T182318Z
UID:5883-1593374400-1593379800@angeleyesdawnmarie.com
SUMMARY:We are the Leaders of the Light\, June 28th
DESCRIPTION:We Are the Leaders of the Light\nSunday Night Free Zoom Class with Angel Eyes Dawn Marie\n \nSunday\, June 28th\, 2020 | 8:00pm\nTopic: The Power of Intention is The Power of Manifestation!\n \nJoin Dawn Marie and Co-Host Shareane Baff\n			\n				\n				\n				\n				\n				\nPower of Intention is the power to create and manifest your dreams and desires. \nIn order to manifest you need to raise your vibration. The universe responds to the level of your vibration and not to your words.  So it is important to raise your vibration and keep it strong!! \nHow can you raise your vibration? \nJoin us Sunday night and find out. \n\nRegister for this event by using the button below by 7pm Sunday (6/28) night.\n(If you have difficulties with the registration\, please send your full name\, phone\, email and date of event to dawn@angeleyesdawnmarie.com or text 516.578.4766)\nYou will receive an email with the Zoom link once you have been registered. \nCheck in at 7:30PM Sunday \n			\n				REGISTER HERE
URL:https://angeleyesdawnmarie.com/event/we-are-the-leaders-of-the-light-june-28/
CATEGORIES:We Are the Leaders of the Light
END:VEVENT
BEGIN:VEVENT
DTSTART;TZID=America/New_York:20200630T183000
DTEND;TZID=America/New_York:20200630T213000
DTSTAMP:20260421T201609
CREATED:20200623T143800Z
LAST-MODIFIED:20200623T143819Z
UID:5881-1593541800-1593552600@angeleyesdawnmarie.com
SUMMARY:Automatic Writing Workshop Level VII\, June 27th
DESCRIPTION:
URL:https://angeleyesdawnmarie.com/event/automatic-writing-workshop-level-7-june-27th/
CATEGORIES:Automatic Writing Workshop
END:VEVENT
END:VCALENDAR