BEGIN:VCALENDAR
VERSION:2.0
PRODID:-//Angel Eyes Dawn Marie - ECPv6.15.17//NONSGML v1.0//EN
CALSCALE:GREGORIAN
METHOD:PUBLISH
X-WR-CALNAME:Angel Eyes Dawn Marie
X-ORIGINAL-URL:https://angeleyesdawnmarie.com
X-WR-CALDESC:Events for Angel Eyes Dawn Marie
REFRESH-INTERVAL;VALUE=DURATION:PT1H
X-Robots-Tag:noindex
X-PUBLISHED-TTL:PT1H
BEGIN:VTIMEZONE
TZID:America/New_York
BEGIN:DAYLIGHT
TZOFFSETFROM:-0500
TZOFFSETTO:-0400
TZNAME:EDT
DTSTART:20250309T070000
END:DAYLIGHT
BEGIN:STANDARD
TZOFFSETFROM:-0400
TZOFFSETTO:-0500
TZNAME:EST
DTSTART:20251102T060000
END:STANDARD
BEGIN:DAYLIGHT
TZOFFSETFROM:-0500
TZOFFSETTO:-0400
TZNAME:EDT
DTSTART:20260308T070000
END:DAYLIGHT
BEGIN:STANDARD
TZOFFSETFROM:-0400
TZOFFSETTO:-0500
TZNAME:EST
DTSTART:20261101T060000
END:STANDARD
BEGIN:DAYLIGHT
TZOFFSETFROM:-0500
TZOFFSETTO:-0400
TZNAME:EDT
DTSTART:20270314T070000
END:DAYLIGHT
BEGIN:STANDARD
TZOFFSETFROM:-0400
TZOFFSETTO:-0500
TZNAME:EST
DTSTART:20271107T060000
END:STANDARD
END:VTIMEZONE
BEGIN:VEVENT
DTSTART;TZID=America/New_York:20260426T200000
DTEND;TZID=America/New_York:20260426T213000
DTSTAMP:20260424T234817
CREATED:20260424T191612Z
LAST-MODIFIED:20260424T192346Z
UID:25214-1777233600-1777239000@angeleyesdawnmarie.com
SUMMARY:We Are the Leaders of the Light—April 26
DESCRIPTION:We Are the Leaders of the Light\nSunday Night Free Zoom Class with Angel Eyes Dawn Marie\n \nSunday\, April 26\, 2026 | 8:00pm EST\nTopic: The Importance of Daily Meditation\n \nJoin Dawn Marie Delahunt\n			\n				\n				\n				\n				\n				There is a calling happening right now… and you are part of it. \nThis powerful zoom is an invitation to step into your role as a Lightworker —grounded\, guided\, and deeply connected through daily spiritual practice. \nEach day\, I devote time to prayer\, meditation\, automatic writing\, and angel card guidance. These sacred rituals are not just habits—they are lifelines. They bring clarity\, peace\, direction\, and a deeper connection to divine guidance. And now\, I’m here to share this with you. \nIn this interactive experience\, we will:💫 Explore the true importance of daily meditation and spiritual alignment 💫 Practice guided meditation together💫 Learn simple yet powerful exercises to strengthen your intuition💫 Open the door to automatic writing and receiving divine messages💫 Connect\, share\, and grow in a supportive\, high-vibrational space \nThis is more than a class—it’s a remembering of who you are and why you’re here. \nIf you’ve been feeling the pull to go deeper\, to trust your inner voice\, and to live with more clarity and purpose… this is your moment. \nCome as you are. Leave aligned\, empowered\, and connected. \n✨ You are the light. Now it’s time to lead with it. We are all Leaders of the light. ✨ \n			\n				\n				\n				\n				\n				Register for this event by using the button below by 7pm Sunday (04/26) night.(If you have difficulties with the registration\, please send your full name\, phone\, email and date of event to dawn@angeleyesdawnmarie.com or text 516.578.4766)You will receive an email with the Zoom link once you have been registered. \n			\n				REGISTER HERE\n			\n				\n				\n				\n				\n				About Angel Eyes Dawn Marie\nAngel Eyes Dawn Marie is a Angelic Oracle\, Psychic Medium\, Spiritual Teacher\,  Intuitive Development Coach. She has studied under many local and world-renowned metaphysical teachers. She not only can channel messages that are given but she has a unique ability to inspire and awaken the innate intuition in others. She does this through her Readings\, Workshops and Spiritual Aware­ness & Intuitive Development classes. \nHer services include Angel Card Readings\, Mediumship Readings\, Past Life Readings\, Archangel & Ascend­ed Master Readings\, Private Intuitive Development Coaching\, Spiritual Counseling\, Private Guided Meditation.  She also facilities pri­vate 3rd Eye\, Ascension and Oneness Activation Sessions. Her class offerings include Angel Card Workshop Certification Courses\,  Automatic Writing Workshop Certification Courses  and Mediumship Development Workshop Certificate Courses for all levels of development for beginners and advanced are welcome.
URL:https://angeleyesdawnmarie.com/event/we-are-the-leaders-of-the-light-april-26/
CATEGORIES:We Are the Leaders of the Light
END:VEVENT
END:VCALENDAR