BEGIN:VCALENDAR
VERSION:2.0
PRODID:-//Angel Eyes Dawn Marie - ECPv6.15.17//NONSGML v1.0//EN
CALSCALE:GREGORIAN
METHOD:PUBLISH
X-ORIGINAL-URL:https://angeleyesdawnmarie.com
X-WR-CALDESC:Events for Angel Eyes Dawn Marie
REFRESH-INTERVAL;VALUE=DURATION:PT1H
X-Robots-Tag:noindex
X-PUBLISHED-TTL:PT1H
BEGIN:VTIMEZONE
TZID:America/New_York
BEGIN:DAYLIGHT
TZOFFSETFROM:-0500
TZOFFSETTO:-0400
TZNAME:EDT
DTSTART:20200308T070000
END:DAYLIGHT
BEGIN:STANDARD
TZOFFSETFROM:-0400
TZOFFSETTO:-0500
TZNAME:EST
DTSTART:20201101T060000
END:STANDARD
BEGIN:DAYLIGHT
TZOFFSETFROM:-0500
TZOFFSETTO:-0400
TZNAME:EDT
DTSTART:20210314T070000
END:DAYLIGHT
BEGIN:STANDARD
TZOFFSETFROM:-0400
TZOFFSETTO:-0500
TZNAME:EST
DTSTART:20211107T060000
END:STANDARD
BEGIN:DAYLIGHT
TZOFFSETFROM:-0500
TZOFFSETTO:-0400
TZNAME:EDT
DTSTART:20220313T070000
END:DAYLIGHT
BEGIN:STANDARD
TZOFFSETFROM:-0400
TZOFFSETTO:-0500
TZNAME:EST
DTSTART:20221106T060000
END:STANDARD
END:VTIMEZONE
BEGIN:VEVENT
DTSTART;TZID=America/New_York:20210509T200000
DTEND;TZID=America/New_York:20210509T213000
DTSTAMP:20260420T070319
CREATED:20210508T142743Z
LAST-MODIFIED:20210624T185005Z
UID:20721-1620590400-1620595800@angeleyesdawnmarie.com
SUMMARY:We Are the Leaders of the Light\, May 9th
DESCRIPTION:We Are the Leaders of the Light\nSunday Night Free Zoom Class with Angel Eyes Dawn Marie \nSunday\, May 9th\, 2021 | 8:00pm EST\nTopic: Connecting with Archangel Sophia; Healing the “Inner Mother”\n \nJoin Dawn Marie\n			\n				\n				\n				\n				\n				Come learn and connect with Archangel Sophia !!! She has been coming in strong to myself\, several of my clients\, students and colleagues!! \nShe likes to be called “Angel Sophia” she is known as the “Angel of Love\,” “Angel of Wisdom” and “Angel of Compassion\, Forgiveness and Understanding.” She is an Angel that can assist you to transmute fear to LOVE. As you call upon and work with her\, she will teach you to slow down and breathe. As you breathe\, you will breath in deeper levels of LOVE ESSENCE. She is known to help you to connect with your “Inner-Mother\,” the great mother that is with in us all. As you do you will begin to have a LOVE-CONSCIOUSNESS State of being\, rising above any fears worries or doubts. I believe she is coming in now stronger than ever to bring a WAVE OF LOVE over the planet. Welcoming more Archangels that are coming forward for us know that are filled with youth\, joy and fun in its simplest form. Sophia is the Greek word for Wisdom. She represents the teachings of the wisdom and love. \nWe have all heard about healing the Inner Child but Archangel Sophia channelled and coined a new phrase the “Inner Mother!!!” Whether you’re a mother already or soon-to-be this class is for you. Even if you had an abortion or lost a pregnancy she can help you forgive and heal. You also may connect with the baby soul’s for they and others may still want to come to you. Be open to connect!!! \nCome join me on this Mother’s Day for a powerful connection\, conversation and meditation to heal our Inner Mother!!! \n			\n				\n				\n				\n				\n				 \nRegister for this event by using the button below by 7pm EST Sunday (5/9) night.(If you have difficulties with the registration\, please send your full name\, phone\, email and date of event to dawn@angeleyesdawnmarie.com or text 516.578.4766)You will receive an email with the Zoom link once you have been registered. \nCheck in at 7:45PM EST on Sunday \n			\n				REGISTER HERE\n			\n				\n				\n				\n				\n				About Angel Eyes Dawn Marie\nAngel Eyes Dawn Marie is a Angelic Oracle\, Psychic Medium\, Spiritual Teacher\,  Intuitive Development Coach. She has studied under many local and world-renowned metaphysical teachers. She not only can channel messages that are given but she has a unique ability to inspire and awaken the innate intuition in others. She does this through her Readings\, Workshops and Spiritual Aware­ness & Intuitive Development classes. \nHer services include Angel Card Readings\, Mediumship Readings\, Past Life Readings\, Archangel & Ascend­ed Master Readings\, Private Intuitive Development Coaching\, Spiritual Counseling\, Private Guided Meditation.  She also facilities pri­vate 3rd Eye\, Ascension and Oneness Activation Sessions. Her class offerings include Angel Card Workshop Certification Courses\,  Automatic Writing Workshop Certification Courses  and Mediumship Development Workshop Certificate Courses for all levels of development for beginners and advanced are welcome.
URL:https://angeleyesdawnmarie.com/event/we-are-the-leaders-of-the-light-may-9th/
CATEGORIES:We Are the Leaders of the Light
END:VEVENT
END:VCALENDAR