BEGIN:VCALENDAR
VERSION:2.0
PRODID:-//Angel Eyes Dawn Marie - ECPv6.15.17//NONSGML v1.0//EN
CALSCALE:GREGORIAN
METHOD:PUBLISH
X-ORIGINAL-URL:https://angeleyesdawnmarie.com
X-WR-CALDESC:Events for Angel Eyes Dawn Marie
REFRESH-INTERVAL;VALUE=DURATION:PT1H
X-Robots-Tag:noindex
X-PUBLISHED-TTL:PT1H
BEGIN:VTIMEZONE
TZID:America/New_York
BEGIN:DAYLIGHT
TZOFFSETFROM:-0500
TZOFFSETTO:-0400
TZNAME:EDT
DTSTART:20250309T070000
END:DAYLIGHT
BEGIN:STANDARD
TZOFFSETFROM:-0400
TZOFFSETTO:-0500
TZNAME:EST
DTSTART:20251102T060000
END:STANDARD
BEGIN:DAYLIGHT
TZOFFSETFROM:-0500
TZOFFSETTO:-0400
TZNAME:EDT
DTSTART:20260308T070000
END:DAYLIGHT
BEGIN:STANDARD
TZOFFSETFROM:-0400
TZOFFSETTO:-0500
TZNAME:EST
DTSTART:20261101T060000
END:STANDARD
BEGIN:DAYLIGHT
TZOFFSETFROM:-0500
TZOFFSETTO:-0400
TZNAME:EDT
DTSTART:20270314T070000
END:DAYLIGHT
BEGIN:STANDARD
TZOFFSETFROM:-0400
TZOFFSETTO:-0500
TZNAME:EST
DTSTART:20271107T060000
END:STANDARD
END:VTIMEZONE
BEGIN:VEVENT
DTSTART;TZID=America/New_York:20260315T200000
DTEND;TZID=America/New_York:20260315T213000
DTSTAMP:20260425T223434
CREATED:20260307T142813Z
LAST-MODIFIED:20260307T142816Z
UID:24986-1773604800-1773610200@angeleyesdawnmarie.com
SUMMARY:We Are the Leaders of the Light—March 15
DESCRIPTION:We Are the Leaders of the Light\nSunday Night Free Zoom Class with Angel Eyes Dawn Marie \nSunday\, March 15\, 2026 | 8:00pm EST\nTopic: Awakening Your Intuition Through Angel Cards\n \nJoin Dawn Marie Delahunt\n			\n				\n				\n				\n				\n				Have you ever wondered if the Angels are trying to speak to you? \nMany people receive subtle guidance through signs\, intuition\, and synchronicities—but are unsure how to understand the messages. \nDuring this special free Zoom gathering\, Dawn Marie will share how Angel Cards can open a clear and powerful pathway to connect with your Angels and Spirit. \nYou will learn: \n\nHow Angels communicate with us in everyday life\nHow Angel Cards help reveal divine guidance\nSimple ways to awaken and strengthen your intuition\n\nDawn will also guide a short meditation to help you connect with the Angelic realm\, followed by a demonstration of how Angel Cards can deliver meaningful messages. \nThis evening is an opportunity to experience the energy of the Angels and discover how your own intuitive gifts may be ready to awaken. \nAt the end of the gathering\, Dawn will also introduce her upcoming Angel Card Workshop Certification Course & Mentorship Program\, where students learn to work deeply with Angel Cards\, Archangels\, and intuitive guidance. \nCome join us for an evening of inspiration\, connection\, and angelic guidance. \n✨ All are welcome. \nReserve your space and receive the Zoom link. \n			\n				\n				\n				\n				\n				Register for this event by using the button below by 7pm Sunday (03/15) night.(If you have difficulties with the registration\, please send your full name\, phone\, email and date of event to dawn@angeleyesdawnmarie.com or text 516.578.4766)You will receive an email with the Zoom link once you have been registered. \n			\n				REGISTER HERE\n			\n				\n				\n				\n				\n				About Angel Eyes Dawn Marie\nAngel Eyes Dawn Marie is a Angelic Oracle\, Psychic Medium\, Spiritual Teacher\,  Intuitive Development Coach. She has studied under many local and world-renowned metaphysical teachers. She not only can channel messages that are given but she has a unique ability to inspire and awaken the innate intuition in others. She does this through her Readings\, Workshops and Spiritual Aware­ness & Intuitive Development classes. \nHer services include Angel Card Readings\, Mediumship Readings\, Past Life Readings\, Archangel & Ascend­ed Master Readings\, Private Intuitive Development Coaching\, Spiritual Counseling\, Private Guided Meditation.  She also facilities pri­vate 3rd Eye\, Ascension and Oneness Activation Sessions. Her class offerings include Angel Card Workshop Certification Courses\,  Automatic Writing Workshop Certification Courses  and Mediumship Development Workshop Certificate Courses for all levels of development for beginners and advanced are welcome.
URL:https://angeleyesdawnmarie.com/event/we-are-the-leaders-of-the-light-march-15/
CATEGORIES:We Are the Leaders of the Light
END:VEVENT
END:VCALENDAR